BEGIN:VCALENDAR
PRODID:-//AddEvent Inc//AddEvent.com v1.7//EN
VERSION:2.0
BEGIN:VTIMEZONE
TZID:Europe/Istanbul
BEGIN:STANDARD
DTSTART:20160907T000000
TZOFFSETFROM:+0300
TZOFFSETTO:+0300
TZNAME:+03
END:STANDARD
END:VTIMEZONE
BEGIN:VEVENT
DESCRIPTION:ZDHC ve Implementation HUB'ın Türkiye'deki ilk büyük etkinliği olan Paydaş Katılım Günü\, 29 Eylül 2022 tarihinde gerçekleşecektir. ZDHC Paydaşlarıyla olan işbirliklerimizi arttırmak ve Türkiye'deki çalışmalarımızı genişletmek için düzenleyeceğimiz bu etkinliğe davetlisiniz!\n\n------\n\nPowered by addevent.com \nShare your next event with us!\n
X-ALT-DESC;FMTTYPE=text/html:ZDHC ve Implementation HUB'ın Türkiye'deki ilk büyük etkinliği olan Paydaş Katılım Günü, 29 Eylül 2022 tarihinde gerçekleşecektir. ZDHC Paydaşlarıyla olan işbirliklerimizi arttırmak ve Türkiye'deki çalışmalarımızı genişletmek için düzenleyeceğimiz bu etkinliğe davetlisiniz!<br /><br />------<br /><br />Powered by addevent.com <br>Share your next event with us!<br>
UID:1776956599addeventcom
SUMMARY:ZDHC Paydaş Katılım Günü | Stakeholder Engagement Day 2022
DTSTART;TZID=Europe/Istanbul:20220929T100000
DTEND;TZID=Europe/Istanbul:20220929T180000
DTSTAMP:20260423T150319Z
TRANSP:OPAQUE
STATUS:CONFIRMED
SEQUENCE:0
LOCATION:ZDHC Virtual Environment | TBD\, Istanbul\, Turkey
X-MICROSOFT-CDO-BUSYSTATUS:BUSY
BEGIN:VALARM
TRIGGER:-PT30M
ACTION:DISPLAY
DESCRIPTION:Reminder
END:VALARM
END:VEVENT
END:VCALENDAR