BEGIN:VCALENDAR
PRODID:-//AddEvent Inc//AddEvent.com v1.7//EN
VERSION:2.0
BEGIN:VTIMEZONE
TZID:Europe/London
BEGIN:STANDARD
DTSTART:20261025T010000
RRULE:FREQ=YEARLY;BYDAY=-1SU;BYMONTH=10
TZOFFSETFROM:+0100
TZOFFSETTO:+0000
TZNAME:GMT
END:STANDARD
BEGIN:DAYLIGHT
DTSTART:20260329T020000
RRULE:FREQ=YEARLY;BYDAY=-1SU;BYMONTH=3
TZOFFSETFROM:+0000
TZOFFSETTO:+0100
TZNAME:BST
END:DAYLIGHT
END:VTIMEZONE
BEGIN:VEVENT
DESCRIPTION:The 5th Party in the Park is the ideal opportunity to network and catch up with CISO peers to compare stories and challenges! \n\nAgenda\n18:00 Doors Open\, Drinks Reception\n18:45 Welcome from co-hosts\n19:00 Speeches\n19:10 More drinks and canapés22:00 Carriages\n\n
X-ALT-DESC;FMTTYPE=text/html:The 5th Party in the Park is the ideal opportunity to network and catch up with CISO peers to compare stories and challenges! <br><br>Agenda<br />18:00 Doors Open, Drinks Reception<br />18:45 Welcome from co-hosts<br />19:00 Speeches<br />19:10 More drinks and canapés22:00 Carriages<br><br>
UID:1777135652addeventcom
SUMMARY:5th Party in the Park
DTSTART;TZID=Europe/London:20220622T180000
DTEND;TZID=Europe/London:20220622T230000
DTSTAMP:20260425T164732Z
TRANSP:OPAQUE
STATUS:CONFIRMED
SEQUENCE:0
LOCATION:The Orangery – Holland Park Ilchester Place\, Kensington\, London W8 6LU
X-MICROSOFT-CDO-BUSYSTATUS:BUSY
BEGIN:VALARM
TRIGGER:-PT1440M
ACTION:DISPLAY
DESCRIPTION:Reminder
END:VALARM
END:VEVENT
END:VCALENDAR