BEGIN:VCALENDAR
PRODID:-//AddEvent Inc//AddEvent.com v1.7//EN
VERSION:2.0
BEGIN:VTIMEZONE
TZID:America/Los_Angeles
BEGIN:STANDARD
DTSTART:20261101T010000
RRULE:FREQ=YEARLY;BYDAY=1SU;BYMONTH=11
TZOFFSETFROM:-0700
TZOFFSETTO:-0800
TZNAME:PST
END:STANDARD
BEGIN:DAYLIGHT
DTSTART:20260308T030000
RRULE:FREQ=YEARLY;BYDAY=2SU;BYMONTH=3
TZOFFSETFROM:-0800
TZOFFSETTO:-0700
TZNAME:PDT
END:DAYLIGHT
END:VTIMEZONE
BEGIN:VEVENT
DESCRIPTION:Join us for our virtual NVIDIA CES Special Address on Tuesday\, Jan. 3\, 2023\, at 8 a.m. PT\, when we’ll share the latest innovations made possible by accelerated computing. \n\nYou can watch the broadcast at NVIDIA.com https://www.nvidia.com/en-us/.\n\nNews leading up to and during the event will be posted here https://nvidianews.nvidia.com/.
X-ALT-DESC;FMTTYPE=text/html:Join us for our virtual NVIDIA CES Special Address on Tuesday, Jan. 3, 2023, at 8 a.m. PT, when we’ll share the latest innovations made possible by accelerated computing. <br><br>You can watch the broadcast at <a href="https://www.nvidia.com/en-us/">NVIDIA.com</a>.<br><br>News leading up to and during the event will be posted <a href="https://nvidianews.nvidia.com/">here</a>.
UID:1776699550addeventcom
SUMMARY:NVIDIA Special Address at CES 2023
DTSTART;TZID=America/Los_Angeles:20230103T080000
DTEND;TZID=America/Los_Angeles:20230103T090000
DTSTAMP:20260420T153910Z
TRANSP:OPAQUE
STATUS:CONFIRMED
SEQUENCE:0
LOCATION:nvidia.com
X-MICROSOFT-CDO-BUSYSTATUS:BUSY
BEGIN:VALARM
TRIGGER:-PT30M
ACTION:DISPLAY
DESCRIPTION:Reminder
END:VALARM
END:VEVENT
END:VCALENDAR