BEGIN:VCALENDAR
PRODID:-//AddEvent Inc//AddEvent.com v1.7//EN
VERSION:2.0
BEGIN:VTIMEZONE
TZID:America/New_York
BEGIN:STANDARD
DTSTART:20261101T010000
RRULE:FREQ=YEARLY;BYDAY=1SU;BYMONTH=11
TZOFFSETFROM:-0400
TZOFFSETTO:-0500
TZNAME:EST
END:STANDARD
BEGIN:DAYLIGHT
DTSTART:20260308T030000
RRULE:FREQ=YEARLY;BYDAY=2SU;BYMONTH=3
TZOFFSETFROM:-0500
TZOFFSETTO:-0400
TZNAME:EDT
END:DAYLIGHT
END:VTIMEZONE
BEGIN:VEVENT
DESCRIPTION:Share your thoughts on the corridor and view proposed improvements along 3rd Street at a special drop-in public meeting. Midtown Alliance staff will be on hand to discuss the project and answer questions.
X-ALT-DESC;FMTTYPE=text/html:Share your thoughts on the corridor and view proposed improvements along 3rd Street at a special drop-in public meeting. Midtown Alliance staff will be on hand to discuss the project and answer questions.
UID:1776938030addeventcom
SUMMARY:3rd Street Bike Lanes: Pop-Up Open House Event
DTSTART;TZID=America/New_York:20250709T170000
DTEND;TZID=America/New_York:20250709T190000
DTSTAMP:20260423T095350Z
TRANSP:OPAQUE
STATUS:CONFIRMED
SEQUENCE:0
LOCATION:3rd Street at Cypress Street (near the ATT entrance of the North Ave MARTA station)
X-MICROSOFT-CDO-BUSYSTATUS:BUSY
BEGIN:VALARM
TRIGGER:-PT30M
ACTION:DISPLAY
DESCRIPTION:Reminder
END:VALARM
END:VEVENT
END:VCALENDAR