BEGIN:VCALENDAR
PRODID:-//AddEvent Inc//AddEvent.com v1.7//EN
VERSION:2.0
BEGIN:VTIMEZONE
TZID:America/New_York
BEGIN:STANDARD
DTSTART:20261101T010000
RRULE:FREQ=YEARLY;BYDAY=1SU;BYMONTH=11
TZOFFSETFROM:-0400
TZOFFSETTO:-0500
TZNAME:EST
END:STANDARD
BEGIN:DAYLIGHT
DTSTART:20260308T030000
RRULE:FREQ=YEARLY;BYDAY=2SU;BYMONTH=3
TZOFFSETFROM:-0500
TZOFFSETTO:-0400
TZNAME:EDT
END:DAYLIGHT
END:VTIMEZONE
BEGIN:VEVENT
DESCRIPTION:In 2023 Oregon issued the first licenses to trained practitioners becoming the first state in the nation and first jurisdiction in the world to codify and license this profession. The earliest adopters enrolled in licensed training programs to complete 150 hours of rigorous training and\, after graduating and receiving licenses\, began practicing. This interview with Kayli Howard explores her experience as one of those very first licensed Facilitators\, including her training at Fluence in one of the very first licensed training programs. Kayli is now preparing to teach in Fluence’s planned Psilocybin Clinical Facilitator program in Colorado and will share her perspectives and experiences in a valuable interview for anyone considering joining the field or simply curious to learn more about it.\n\n​Zoom Link: https://fluencetraining.zoom.us/j/86144182688?pwd=9FcNOJEstwBQXhv4yoTMbR7ZOuowzp.1\n\nFollowing the discussion\, we will open up for Q&A\, providing you with the unique opportunity to ask questions and hear more about the topics you are most interested in.\n\n\n\n------\n\nPowered by addevent.com \nShare your next event with us!\n
X-ALT-DESC;FMTTYPE=text/html:<div data-block-id="block-0ce678f7-bd6b-4f7b-8189-3c8bb55c0d15">In 2023 Oregon issued the first licenses to trained practitioners becoming the first state in the nation and first jurisdiction in the world to codify and license this profession. The earliest adopters enrolled in licensed training programs to complete 150 hours of rigorous training and, after graduating and receiving licenses, began practicing. This interview with Kayli Howard explores her experience as one of those very first licensed Facilitators, including her training at Fluence in one of the very first licensed training programs. Kayli is now preparing to teach in Fluence’s planned Psilocybin Clinical Facilitator program in Colorado and will share her perspectives and experiences in a valuable interview for anyone considering joining the field or simply curious to learn more about it.</div><br />​Zoom Link: <a data-fr-linked="true" href="https://fluencetraining.zoom.us/j/86144182688?pwd=9FcNOJEstwBQXhv4yoTMbR7ZOuowzp.1">https://fluencetraining.zoom.us/j/86144182688?pwd=9FcNOJEstwBQXhv4yoTMbR7ZOuowzp.1</a><br /><div data-block-id="block-f700976b-ae78-4628-9fd2-8e82ba53b2a7"><br /></div><div data-block-id="block-76277b48-c9ea-4575-907d-d5771096ffb3">Following the discussion, we will open up for Q&amp;A, providing you with the unique opportunity to ask questions and hear more about the topics you are most interested in.</div><br /><br />------<br /><br />Powered by addevent.com <br>Share your next event with us!<br>
UID:1776651882addeventcom
SUMMARY:Psilocybin Sessions: Peek Behind the Scenes
DTSTART;TZID=America/New_York:20241029T150000
DTEND;TZID=America/New_York:20241029T160000
DTSTAMP:20260420T022442Z
TRANSP:OPAQUE
STATUS:CONFIRMED
SEQUENCE:0
LOCATION:https://fluencetraining.zoom.us/j/86144182688?pwd=9FcNOJEstwBQXhv4yoTMbR7ZOuowzp.1
X-MICROSOFT-CDO-BUSYSTATUS:BUSY
BEGIN:VALARM
TRIGGER:-PT60M
ACTION:DISPLAY
DESCRIPTION:Reminder
END:VALARM
END:VEVENT
END:VCALENDAR