BEGIN:VCALENDAR
PRODID:-//AddEvent Inc//AddEvent.com v1.7//EN
VERSION:2.0
BEGIN:VTIMEZONE
TZID:Europe/London
BEGIN:STANDARD
DTSTART:20261025T010000
RRULE:FREQ=YEARLY;BYDAY=-1SU;BYMONTH=10
TZOFFSETFROM:+0100
TZOFFSETTO:+0000
TZNAME:GMT
END:STANDARD
BEGIN:DAYLIGHT
DTSTART:20260329T020000
RRULE:FREQ=YEARLY;BYDAY=-1SU;BYMONTH=3
TZOFFSETFROM:+0000
TZOFFSETTO:+0100
TZNAME:BST
END:DAYLIGHT
END:VTIMEZONE
BEGIN:VEVENT
DESCRIPTION:The case officer for the Cala application posted his report and recommendation to the portal yesterday.  He is recommending that the application be GRANTED!\n\nThis report will be circulated to the committee of councillors\, who will meet on Monday 28th November at the Civic Offices to decide whether to accept the officer’s recommendation or whether to oppose it and refuse the application.  \n\nIt is therefore absolutely crucial that the maximum amount of Chiswell Green residents attend this committee meeting to show councillors the depth of local opposition. \n\nThis could literally be our last opportunity to stop this application\, so if you don't want this massive development to go ahead\, your attendance is absolutely vital!\n\nWe recommend arriving by 6:30pm at the latest to allow for signing in at the door and finding seating etc.\n\n\n\n------\n\nPowered by addevent.com \nShare your next event with us!\n
X-ALT-DESC;FMTTYPE=text/html:The case officer for the Cala application posted his report and recommendation to the portal yesterday.  He is recommending that the application be GRANTED!<br><br>This report will be circulated to the committee of councillors, who will meet on Monday 28th November at the Civic Offices to decide whether to accept the officer’s recommendation or whether to oppose it and refuse the application.  <br><br>It is therefore <strong>absolutely crucial that the maximum amount of Chiswell Green residents attend this committee meeting</strong> to show councillors the depth of local opposition. <br><br>This could literally be our last opportunity to stop this application, so if you don't want this massive development to go ahead, <strong>your attendance is absolutely vital!</strong><br><br>We recommend arriving by 6:30pm at the latest to allow for signing in at the door and finding seating etc.<br><br><br /><br />------<br /><br />Powered by addevent.com <br>Share your next event with us!<br>
UID:1776653579addeventcom
SUMMARY:CALA Homes Planning Decision Meeting
DTSTART;TZID=Europe/London:20221128T190000
DTEND;TZID=Europe/London:20221128T200000
DTSTAMP:20260420T025259Z
TRANSP:OPAQUE
STATUS:CONFIRMED
SEQUENCE:0
LOCATION:Civic Centre\, St Peter's Street\, St Albans\, AL1 3JE\, United Kingdom
X-MICROSOFT-CDO-BUSYSTATUS:BUSY
BEGIN:VALARM
TRIGGER:-PT60M
ACTION:DISPLAY
DESCRIPTION:Reminder
END:VALARM
END:VEVENT
END:VCALENDAR