BEGIN:VCALENDAR
PRODID:-//AddEvent Inc//AddEvent.com v1.7//EN
VERSION:2.0
BEGIN:VTIMEZONE
TZID:America/New_York
BEGIN:STANDARD
DTSTART:20261101T010000
RRULE:FREQ=YEARLY;BYDAY=1SU;BYMONTH=11
TZOFFSETFROM:-0400
TZOFFSETTO:-0500
TZNAME:EST
END:STANDARD
BEGIN:DAYLIGHT
DTSTART:20260308T030000
RRULE:FREQ=YEARLY;BYDAY=2SU;BYMONTH=3
TZOFFSETFROM:-0500
TZOFFSETTO:-0400
TZNAME:EDT
END:DAYLIGHT
END:VTIMEZONE
BEGIN:VEVENT
DESCRIPTION:This will happen in Sgt Anthony Park if the weather is nice\, or zoom if bad weather is expected. Please sign up for our emails http://sgtanthonypark.com/get-involved/ and follow us on social media for updates. \n\n\n\n------\n\nPowered by addevent.com \nShare your next event with us!\n
X-ALT-DESC;FMTTYPE=text/html:This will happen in Sgt Anthony Park if the weather is nice, or zoom if bad weather is expected. Please <a href="http://sgtanthonypark.com/get-involved/" rel="noopener noreferrer" target="_blank">sign up for our emails</a> and follow us on social media for updates. <br><br><br /><br />------<br /><br />Powered by addevent.com <br>Share your next event with us!<br>
UID:1776961793addeventcom
SUMMARY:Sgt Anthony Park Community Meeting
DTSTART;TZID=America/New_York:20220915T190000
DTEND;TZID=America/New_York:20220915T203000
DTSTAMP:20260423T162953Z
TRANSP:OPAQUE
STATUS:CONFIRMED
SEQUENCE:0
LOCATION:100 Palisade Ave\, Jersey City\, 07306\, NJ\, USA
X-MICROSOFT-CDO-BUSYSTATUS:BUSY
BEGIN:VALARM
TRIGGER:-PT60M
ACTION:DISPLAY
DESCRIPTION:Reminder
END:VALARM
END:VEVENT
END:VCALENDAR