BEGIN:VCALENDAR
PRODID:-//AddEvent Inc//AddEvent.com v1.7//EN
VERSION:2.0
BEGIN:VTIMEZONE
TZID:Asia/Kolkata
BEGIN:STANDARD
DTSTART:19700101T053000
TZOFFSETFROM:+0530
TZOFFSETTO:+0530
TZNAME:IST
END:STANDARD
END:VTIMEZONE
BEGIN:VEVENT
DESCRIPTION:https://24hr-ramanavami.online\n\n------\n\nPowered by addevent.com \nShare your next event with us!\n
X-ALT-DESC;FMTTYPE=text/html:https://24hr-ramanavami.online<br /><br />------<br /><br />Powered by addevent.com <br>Share your next event with us!<br>
UID:1776799406addeventcom
SUMMARY:RamNavami 2021
DTSTART;TZID=Asia/Kolkata:20210420T160000
DTEND;TZID=Asia/Kolkata:20210421T154500
DTSTAMP:20260421T192326Z
TRANSP:OPAQUE
STATUS:CONFIRMED
SEQUENCE:0
LOCATION:https://24hr-ramanavami.online
X-MICROSOFT-CDO-BUSYSTATUS:BUSY
BEGIN:VALARM
TRIGGER:-PT30M
ACTION:DISPLAY
DESCRIPTION:Reminder
END:VALARM
END:VEVENT
END:VCALENDAR