BEGIN:VCALENDAR
PRODID:-//AddEvent Inc//AddEvent.com v1.7//EN
VERSION:2.0
BEGIN:VTIMEZONE
TZID:America/New_York
BEGIN:STANDARD
DTSTART:20261101T010000
RRULE:FREQ=YEARLY;BYDAY=1SU;BYMONTH=11
TZOFFSETFROM:-0400
TZOFFSETTO:-0500
TZNAME:EST
END:STANDARD
BEGIN:DAYLIGHT
DTSTART:20260308T030000
RRULE:FREQ=YEARLY;BYDAY=2SU;BYMONTH=3
TZOFFSETFROM:-0500
TZOFFSETTO:-0400
TZNAME:EDT
END:DAYLIGHT
END:VTIMEZONE
BEGIN:VEVENT
DESCRIPTION:HUD’s Office of Policy Development and Research will host a virtual Quarterly Update on Housing First\, a service model that addresses homelessness by quickly getting individuals and households experiencing homelessness into housing without any preconditions or barriers. \n\nPlease register for the event here https://www.huduser.gov/portal/event/quarterlyupdate-April2023.html. The event link will be sent to registered attendees the morning of the event and will also be available on the event page https://www.huduser.gov/portal/event/quarterlyupdate-April2023.html the day of the event.
X-ALT-DESC;FMTTYPE=text/html:HUD’s Office of Policy Development and Research will host a virtual Quarterly Update on Housing First, a service model that addresses homelessness by quickly getting individuals and households experiencing homelessness into housing without any preconditions or barriers. <br><br>Please register for the event <a href="https://www.huduser.gov/portal/event/quarterlyupdate-April2023.html">here</a>. The event link will be sent to registered attendees the morning of the event and will also be available on the <a href="https://www.huduser.gov/portal/event/quarterlyupdate-April2023.html">event page</a> the day of the event.
UID:1776852187addeventcom
SUMMARY:Quarterly Update: Housing First
DTSTART;TZID=America/New_York:20230406T140000
DTEND;TZID=America/New_York:20230406T160000
DTSTAMP:20260422T100307Z
TRANSP:OPAQUE
STATUS:CONFIRMED
SEQUENCE:0
X-MICROSOFT-CDO-BUSYSTATUS:BUSY
BEGIN:VALARM
TRIGGER:-PT30M
ACTION:DISPLAY
DESCRIPTION:Reminder
END:VALARM
END:VEVENT
END:VCALENDAR