BEGIN:VCALENDAR
PRODID:-//AddEvent Inc//AddEvent.com v1.7//EN
VERSION:2.0
BEGIN:VEVENT
DESCRIPTION:(NL) WWV zijn al meer dan 19 jaar hét ontmoetingsplatform voor de gehele e-commerce branche. Wij zijn er om organisaties te ondersteunen om hun digitale ambities waar te maken. Door kennis\, kunde en contacten te bieden waar direct van geprofiteerd kan worden.\n\n(EN) WWV has been the leading networking platform for the entire e-commerce industry for over 19 years. We are here to support organizations in achieving their digital ambitions by providing knowledge\, expertise\, and connections that can be leveraged immediately.
X-ALT-DESC;FMTTYPE=text/html:(NL) WWV zijn al meer dan 19 jaar hét ontmoetingsplatform voor de gehele e-commerce branche. Wij zijn er om organisaties te ondersteunen om hun digitale ambities waar te maken. Door kennis, kunde en contacten te bieden waar direct van geprofiteerd kan worden.<br><br>(EN) WWV has been the leading networking platform for the entire e-commerce industry for over 19 years. We are here to support organizations in achieving their digital ambitions by providing knowledge, expertise, and connections that can be leveraged immediately.
UID:1776665595addeventcom
SUMMARY:Webwinkel Vakdagen 2026
DTSTART;VALUE=DATE:20260325
DTEND;VALUE=DATE:20260327
DTSTAMP:20260420T061315Z
TRANSP:OPAQUE
STATUS:CONFIRMED
SEQUENCE:0
LOCATION:Jaarbeurs Utrecht
X-MICROSOFT-CDO-BUSYSTATUS:BUSY
BEGIN:VALARM
TRIGGER:-PT2880M
ACTION:DISPLAY
DESCRIPTION:Reminder
END:VALARM
END:VEVENT
END:VCALENDAR