BEGIN:VCALENDAR
PRODID:-//AddEvent Inc//AddEvent.com v1.7//EN
VERSION:2.0
BEGIN:VTIMEZONE
TZID:Europe/London
BEGIN:STANDARD
DTSTART:20261025T010000
RRULE:FREQ=YEARLY;BYDAY=-1SU;BYMONTH=10
TZOFFSETFROM:+0100
TZOFFSETTO:+0000
TZNAME:GMT
END:STANDARD
BEGIN:DAYLIGHT
DTSTART:20260329T020000
RRULE:FREQ=YEARLY;BYDAY=-1SU;BYMONTH=3
TZOFFSETFROM:+0000
TZOFFSETTO:+0100
TZNAME:BST
END:DAYLIGHT
END:VTIMEZONE
BEGIN:VEVENT
DESCRIPTION:Topic: Institute of Measurement and Control: Communicate Effectively \n\nHost: Dale Carnegie London \n\nDate: Thursday\, 5 November 2020 \n\nTime: 17:00\, GMT Time (London\, GMT) \n\nSession number: 171 709 3061 \n\nSession password: DC \n\n------------------------------------------------------- \n\nTo join the training session \n\n------------------------------------------------------- \n\n1. Go to https://dalecarnegie.webex.com/dalecarnegie/k2/j.php?MTID=t7109247003fd307c9ac08dd033425012 \n\n2. Enter your name and email address. \n\n3. Enter the session password: DC \n\n4. Click "Join Now". \n\n5. Follow the instructions that appear on your screen. \n\nTo view in other time zones or languages\, please click the link \n\nhttps://dalecarnegie.webex.com/dalecarnegie/k2/j.php?MTID=tce88085f8721137b1eb369bbd65c2dc3 \n\n------------------------------------------------------- \n\nTo join the session by phone only \n\n------------------------------------------------------- \n\nUnited Kingdom Toll:+44-203-478-5286 \n\nHaving trouble dialing in? Try these backup numbers: \n\nGlobal call-in numbers: https://dalecarnegie.webex.com/dalecarnegie/globalcallin.php?MTID=t761a212b805a033987d3cf8963d3aa32 \n\nAccess code: 171 709 3061 \n\n------------------------------------------------------- \n\nFor assistance \n\n------------------------------------------------------- \n\nYou can contact Dale Carnegie London at: \n\nlondon@dalecarnegie.com \n\n44-2073794323 \n\nCan't join the training session? \n\nhttps://collaborati.cisco.com/article/qg8vzfb \n\nTo add this session to your calendar program (for example Microsoft Outlook)\, click this link: \n\nhttps://dalecarnegie.webex.com/dalecarnegie/k2/j.php?MTID=t3eaaf0bf36e47ee199649c7a4d6c76a7 \n\nhttps://www.webex.com \n\nIMPORTANT NOTICE: This Webex service includes a feature that allows audio and any documents and other materials exchanged or viewed during the session to be recorded. By joining this session\, you automatically consent to such recordings. If you do not consent to the recording\, discuss your concerns with the meeting host prior to the start of the recording or do not join the session. Please note that any such recordings may be subject to discovery in the event of litigation.\n\n------\n\nPowered by addevent.com \nShare your next event with us!\n
X-ALT-DESC;FMTTYPE=text/html:Topic: Institute of Measurement and Control: Communicate Effectively <br />Host: Dale Carnegie London <br />Date: Thursday, 5 November 2020 <br />Time: 17:00, GMT Time (London, GMT) <br><br>Session number: 171 709 3061 <br />Session password: DC <br><br>------------------------------------------------------- <br />To join the training session <br />------------------------------------------------------- <br />1. Go to https://dalecarnegie.webex.com/dalecarnegie/k2/j.php?MTID=t7109247003fd307c9ac08dd033425012 <br />2. Enter your name and email address. <br />3. Enter the session password: DC <br />4. Click "Join Now". <br />5. Follow the instructions that appear on your screen. <br />To view in other time zones or languages, please click the link <br />https://dalecarnegie.webex.com/dalecarnegie/k2/j.php?MTID=tce88085f8721137b1eb369bbd65c2dc3 <br><br>------------------------------------------------------- <br />To join the session by phone only <br />------------------------------------------------------- <br><br>United Kingdom Toll:+44-203-478-5286 <br><br>Having trouble dialing in? Try these backup numbers: <br />Global call-in numbers: https://dalecarnegie.webex.com/dalecarnegie/globalcallin.php?MTID=t761a212b805a033987d3cf8963d3aa32 <br />Access code: 171 709 3061 <br><br>------------------------------------------------------- <br />For assistance <br />------------------------------------------------------- <br />You can contact Dale Carnegie London at: <br />london@dalecarnegie.com <br />44-2073794323 <br><br>Can't join the training session? <br />https://collaborati.cisco.com/article/qg8vzfb <br><br>To add this session to your calendar program (for example Microsoft Outlook), click this link: <br />https://dalecarnegie.webex.com/dalecarnegie/k2/j.php?MTID=t3eaaf0bf36e47ee199649c7a4d6c76a7 <br><br>https://www.webex.com <br><br>IMPORTANT NOTICE: This Webex service includes a feature that allows audio and any documents and other materials exchanged or viewed during the session to be recorded. By joining this session, you automatically consent to such recordings. If you do not consent to the recording, discuss your concerns with the meeting host prior to the start of the recording or do not join the session. Please note that any such recordings may be subject to discovery in the event of litigation.<br /><br />------<br /><br />Powered by addevent.com <br>Share your next event with us!<br>
UID:1777116332addeventcom
SUMMARY:Dale Carnegie: Communicate Effectively
DTSTART;TZID=Europe/London:20201105T170000
DTEND;TZID=Europe/London:20201105T183000
DTSTAMP:20260425T112532Z
TRANSP:OPAQUE
STATUS:CONFIRMED
SEQUENCE:0
LOCATION:https://dalecarnegie.webex.com/dalecarnegie/k2/j.php?MTID=t7109247003fd307c9ac08dd033425012
X-MICROSOFT-CDO-BUSYSTATUS:BUSY
BEGIN:VALARM
TRIGGER:-PT60M
ACTION:DISPLAY
DESCRIPTION:Reminder
END:VALARM
END:VEVENT
END:VCALENDAR