BEGIN:VCALENDAR
PRODID:-//AddEvent Inc//AddEvent.com v1.7//EN
VERSION:2.0
BEGIN:VTIMEZONE
TZID:Europe/London
BEGIN:STANDARD
DTSTART:20261025T010000
RRULE:FREQ=YEARLY;BYDAY=-1SU;BYMONTH=10
TZOFFSETFROM:+0100
TZOFFSETTO:+0000
TZNAME:GMT
END:STANDARD
BEGIN:DAYLIGHT
DTSTART:20260329T020000
RRULE:FREQ=YEARLY;BYDAY=-1SU;BYMONTH=3
TZOFFSETFROM:+0000
TZOFFSETTO:+0100
TZNAME:BST
END:DAYLIGHT
END:VTIMEZONE
BEGIN:VEVENT
DESCRIPTION:A one hour Wellbeing workshop to support your journey to feeling brilliant.\n\n------\n\nPowered by addevent.com \nShare your next event with us!\n
X-ALT-DESC;FMTTYPE=text/html:A one hour Wellbeing workshop to support your journey to feeling brilliant.<br /><br />------<br /><br />Powered by addevent.com <br>Share your next event with us!<br>
UID:1777125538addeventcom
SUMMARY:Wellbeing Workshop
DTSTART;TZID=Europe/London:20240626T120000
DTEND;TZID=Europe/London:20240626T130000
DTSTAMP:20260425T135858Z
TRANSP:OPAQUE
STATUS:CONFIRMED
SEQUENCE:0
LOCATION:https://us02web.zoom.us/j/3552012564?pwd=OTdYYWduN2xoSkh4RkhJYitNaG5Wdz09&omn=84884445613
X-MICROSOFT-CDO-BUSYSTATUS:BUSY
BEGIN:VALARM
TRIGGER:-PT1440M
ACTION:DISPLAY
DESCRIPTION:Reminder
END:VALARM
END:VEVENT
END:VCALENDAR