BEGIN:VCALENDAR
PRODID:-//AddEvent Inc//AddEvent.com v1.7//EN
VERSION:2.0
BEGIN:VEVENT
DESCRIPTION:From electrode manufacturing to shipping\, our integrated intra-logistics automation boosts efficiency\, flexibility\, and scalability in electric vehicle battery production automation. Meet us at Battery Show Europe to discover how our global experience\, advanced technologies\, and 24/7 support can drive your success.
X-ALT-DESC;FMTTYPE=text/html:<span data-teams="true"><span data-teams="true">From electrode manufacturing to shipping, our integrated intra-logistics automation boosts efficiency, flexibility, and scalability in electric vehicle battery production automation. Meet us at Battery Show Europe to discover how our global experience, advanced technologies, and 24/7 support can drive your success.</span></span>
UID:1776840244addeventcom
SUMMARY:Empower your gigafactory with the combined expertise of Cimcorp\, Murata Machinery\, and AGVE
DTSTART;VALUE=DATE:20250603
DTEND;VALUE=DATE:20250606
DTSTAMP:20260422T064404Z
TRANSP:OPAQUE
STATUS:CONFIRMED
SEQUENCE:0
LOCATION:Hall 6\, F30\, Messe Stuttgart
X-MICROSOFT-CDO-BUSYSTATUS:BUSY
BEGIN:VALARM
TRIGGER:-PT10080M
ACTION:DISPLAY
DESCRIPTION:Reminder
END:VALARM
END:VEVENT
END:VCALENDAR