BEGIN:VCALENDAR
PRODID:-//AddEvent Inc//AddEvent.com v1.7//EN
VERSION:2.0
BEGIN:VTIMEZONE
TZID:America/Los_Angeles
BEGIN:STANDARD
DTSTART:20261101T010000
RRULE:FREQ=YEARLY;BYDAY=1SU;BYMONTH=11
TZOFFSETFROM:-0700
TZOFFSETTO:-0800
TZNAME:PST
END:STANDARD
BEGIN:DAYLIGHT
DTSTART:20260308T030000
RRULE:FREQ=YEARLY;BYDAY=2SU;BYMONTH=3
TZOFFSETFROM:-0800
TZOFFSETTO:-0700
TZNAME:PDT
END:DAYLIGHT
END:VTIMEZONE
BEGIN:VEVENT
DESCRIPTION:Talk title: Simplify Kubernetes development with Octant by Mark Foley\n\nTalk Abstract: Octant is a fantastic open-source tool for working with Kubernetes. It helps you understand how your applications is running on Kubernetes as well as providing a number of troubleshooting and debugging your application. This session provides an overview of Octant capabilities and how it can simplify Kubernetes development.\n\n------\n\nPowered by addevent.com \nShare your next event with us!\n
X-ALT-DESC;FMTTYPE=text/html:Talk title: Simplify Kubernetes development with Octant by Mark Foley<br />Talk Abstract: Octant is a fantastic open-source tool for working with Kubernetes. It helps you understand how your applications is running on Kubernetes as well as providing a number of troubleshooting and debugging your application. This session provides an overview of Octant capabilities and how it can simplify Kubernetes development.<br /><br />------<br /><br />Powered by addevent.com <br>Share your next event with us!<br>
UID:1777067509addeventcom
SUMMARY:Simplify Kubernetes development with Octant
DTSTART;TZID=America/Los_Angeles:20200420T160000
DTEND;TZID=America/Los_Angeles:20200420T170000
DTSTAMP:20260424T215149Z
TRANSP:OPAQUE
STATUS:CONFIRMED
SEQUENCE:0
LOCATION:www.youtube.com/vmwarecode
X-MICROSOFT-CDO-BUSYSTATUS:BUSY
BEGIN:VALARM
TRIGGER:-PT60M
ACTION:DISPLAY
DESCRIPTION:Reminder
END:VALARM
END:VEVENT
END:VCALENDAR