BEGIN:VCALENDAR
PRODID:-//AddEvent Inc//AddEvent.com v1.7//EN
VERSION:2.0
BEGIN:VTIMEZONE
TZID:America/New_York
BEGIN:STANDARD
DTSTART:20261101T010000
RRULE:FREQ=YEARLY;BYDAY=1SU;BYMONTH=11
TZOFFSETFROM:-0400
TZOFFSETTO:-0500
TZNAME:EST
END:STANDARD
BEGIN:DAYLIGHT
DTSTART:20260308T030000
RRULE:FREQ=YEARLY;BYDAY=2SU;BYMONTH=3
TZOFFSETFROM:-0500
TZOFFSETTO:-0400
TZNAME:EDT
END:DAYLIGHT
END:VTIMEZONE
BEGIN:VEVENT
DESCRIPTION:Join us for the DMV Made pre-fest mixer featuring live DJs spinning the music you love\, with a special live performance by Born I. Come out and party with Words Beats & Life and our guests and pick up exclusive DMV Made merchandise before our annual festival on Saturday\, July 26\, 2025.\n http://wblinc.org/mixer\nRSVP: wblinc.org/mixer http://wblinc.org/mixer\n\n------\n\nPowered by addevent.com \nShare your next event with us!\n
X-ALT-DESC;FMTTYPE=text/html:Join us for the DMV Made pre-fest mixer featuring live DJs spinning the music you love, with a special live performance by Born I. Come out and party with Words Beats &amp; Life and our guests and pick up exclusive DMV Made merchandise before our annual festival on Saturday, July 26, 2025.<br /><a data-saferedirecturl="https://www.google.com/url?q=http://wblinc.org/mixer&source=gmail&ust=1751987311475000&usg=AOvVaw2ConBB52EdkOFI9tKqKnOs" href="http://wblinc.org/mixer" target="_blank"></a><br />RSVP: <a data-saferedirecturl="https://www.google.com/url?q=http://wblinc.org/mixer&source=gmail&ust=1751987311475000&usg=AOvVaw2ConBB52EdkOFI9tKqKnOs" href="http://wblinc.org/mixer" target="_blank">wblinc.org/mixer</a><br /><br />------<br /><br />Powered by addevent.com <br>Share your next event with us!<br>
UID:1777052773addeventcom
SUMMARY:DMV Made Pre-Fest Mixer @ Metro Bar
DTSTART;TZID=America/New_York:20250724T180000
DTEND;TZID=America/New_York:20250724T220000
DTSTAMP:20260424T174613Z
TRANSP:OPAQUE
STATUS:CONFIRMED
SEQUENCE:0
LOCATION:Metro Bar DC\, 640 Rhode Island Ave NE\, Washington\, DC 20002
X-MICROSOFT-CDO-BUSYSTATUS:BUSY
BEGIN:VALARM
TRIGGER:-PT60M
ACTION:DISPLAY
DESCRIPTION:Reminder
END:VALARM
END:VEVENT
END:VCALENDAR