BEGIN:VCALENDAR
PRODID:-//AddEvent Inc//AddEvent.com v1.7//EN
VERSION:2.0
BEGIN:VTIMEZONE
TZID:Europe/Berlin
BEGIN:STANDARD
DTSTART:20261025T020000
RRULE:FREQ=YEARLY;BYDAY=-1SU;BYMONTH=10
TZOFFSETFROM:+0200
TZOFFSETTO:+0100
TZNAME:CET
END:STANDARD
BEGIN:DAYLIGHT
DTSTART:20260329T030000
RRULE:FREQ=YEARLY;BYDAY=-1SU;BYMONTH=3
TZOFFSETFROM:+0100
TZOFFSETTO:+0200
TZNAME:CEST
END:DAYLIGHT
END:VTIMEZONE
BEGIN:VEVENT
DESCRIPTION:Die NEUE Coaching Business Strategie: Komplette Erfolgs-Anleitung für 2024/25\n\nWie du die einzigartigen MMS-Wachstumsprozesse in dein Business installierst und als Coach\, Experte\, Berater\, Trainer oder Heilerin zielsicher Leads generierst\, erfolgreich online Kunden gewinnst und planbar auf 6-stellig im Monat skalierst.\n\n\n\n------\n\nPowered by addevent.com \nShare your next event with us!\n
X-ALT-DESC;FMTTYPE=text/html:<div data-page-element="Headline/V1"><h1 data-style-guide-headline="m"><span data-align-selector=".elHeadline" data-page-element="ContentEditableNode" data-slot-name="default">Die NEUE Coaching Business Strategie: Komplette Erfolgs-Anleitung für 2024/25</span></h1></div><div data-page-element="Paragraph/V1"><p data-style-guide-content="l"><span data-align-selector=".elParagraph" data-page-element="ContentEditableNode" data-slot-name="default">Wie du die <strong>einzigartigen MMS-Wachstumsprozesse</strong> in dein Business installierst und als Coach, Experte, Berater, Trainer oder Heilerin zielsicher Leads generierst, erfolgreich online Kunden gewinnst und <strong>planbar auf 6-stellig im Monat skalierst.</strong></span></p></div><br /><br />------<br /><br />Powered by addevent.com <br>Share your next event with us!<br>
UID:1776865703addeventcom
SUMMARY:Kostenloser Online Seminartag
DTSTART;TZID=Europe/Berlin:20241103T100000
DTEND;TZID=Europe/Berlin:20241103T170000
DTSTAMP:20260422T134823Z
TRANSP:OPAQUE
STATUS:CONFIRMED
SEQUENCE:0
X-MICROSOFT-CDO-BUSYSTATUS:BUSY
BEGIN:VALARM
TRIGGER:-PT30M
ACTION:DISPLAY
DESCRIPTION:Reminder
END:VALARM
END:VEVENT
END:VCALENDAR