BEGIN:VCALENDAR
PRODID:-//AddEvent Inc//AddEvent.com v1.7//EN
VERSION:2.0
BEGIN:VTIMEZONE
TZID:America/Los_Angeles
BEGIN:STANDARD
DTSTART:20261101T010000
RRULE:FREQ=YEARLY;BYDAY=1SU;BYMONTH=11
TZOFFSETFROM:-0700
TZOFFSETTO:-0800
TZNAME:PST
END:STANDARD
BEGIN:DAYLIGHT
DTSTART:20260308T030000
RRULE:FREQ=YEARLY;BYDAY=2SU;BYMONTH=3
TZOFFSETFROM:-0800
TZOFFSETTO:-0700
TZNAME:PDT
END:DAYLIGHT
END:VTIMEZONE
BEGIN:VEVENT
DESCRIPTION:Love\, Mysticism and Magic: An Evening of Divine Passion\, Creative Insights\, and Spiritual Connection\n\nImmerse yourself in an extraordinary evening where storytelling meets spirituality. Love\, Mysticism & Magic is a live\, interactive event where bestselling fiction authors and spiritual guides come together to explore the deep connection between creativity and the mystical realm.\nThrough transformative teachings\, empowering stories\, and actionable spiritual tools\, you’ll discover how intuition\, myth\, and metaphysical practices can inspire both your creative expression and your personal journey.
X-ALT-DESC;FMTTYPE=text/html:<em>Love, Mysticism and Magic</em>: An Evening of Divine Passion, Creative Insights, and Spiritual Connection<br><br>Immerse yourself in an extraordinary evening where storytelling meets spirituality. <em>Love, Mysticism &amp; Magic</em> is a live, interactive event where bestselling fiction authors and spiritual guides come together to explore the deep connection between creativity and the mystical realm.<br />Through transformative teachings, empowering stories, and actionable spiritual tools, you’ll discover how intuition, myth, and metaphysical practices can inspire both your creative expression and your personal journey.
UID:1776978279addeventcom
SUMMARY:Love\, Mysticism and Magic: A Live 2-Hour Virtual Event
DTSTART;TZID=America/Los_Angeles:20250224T150000
DTEND;TZID=America/Los_Angeles:20250224T170000
DTSTAMP:20260423T210439Z
TRANSP:OPAQUE
STATUS:CONFIRMED
SEQUENCE:0
LOCATION:https://www.discover.hayhouse.com/lovemysticismmagic-dashboard/
X-MICROSOFT-CDO-BUSYSTATUS:BUSY
BEGIN:VALARM
TRIGGER:-PT30M
ACTION:DISPLAY
DESCRIPTION:Reminder
END:VALARM
END:VEVENT
END:VCALENDAR