BEGIN:VCALENDAR
PRODID:-//AddEvent Inc//AddEvent.com v1.7//EN
VERSION:2.0
BEGIN:VTIMEZONE
TZID:Europe/Zurich
BEGIN:STANDARD
DTSTART:20261025T020000
RRULE:FREQ=YEARLY;BYDAY=-1SU;BYMONTH=10
TZOFFSETFROM:+0200
TZOFFSETTO:+0100
TZNAME:CET
END:STANDARD
BEGIN:DAYLIGHT
DTSTART:20260329T030000
RRULE:FREQ=YEARLY;BYDAY=-1SU;BYMONTH=3
TZOFFSETFROM:+0100
TZOFFSETTO:+0200
TZNAME:CEST
END:DAYLIGHT
END:VTIMEZONE
BEGIN:VEVENT
DESCRIPTION:In einer Welt\, die zunehmend auf vernetzte Identitätsmanagement-Systeme angewiesen ist\, bietet SCIM eine standardisierte Lösung für die automatisierte Verwaltung von Benutzeridentitäten über verschiedene Systeme hinweg. Doch während SCIM als universelle Schnittstelle für Provisionierung und Identity Management angepriesen wird\, zeigt sich in der Praxis oft ein komplexes Bild.\n \n Ist SCIM die ultimative Lösung für die Herausforderungen der Identitätsverwaltung oder entpuppt es sich als schwieriger zu implementierender Standard\, der mehr Probleme als Lösungen bietet? In diesem Event gehen wir der Frage nach\, wie SCIM in der Realität funktioniert\, welche Vorteile es bietet und welche Herausforderungen es mit sich bringen kann. Lassen Sie sich von Experten durch die Feinheiten und Fallstricke führen und finden Sie heraus\, ob SCIM tatsächlich Ihre ideale Lösung ist oder ob es an der Zeit ist\, alternative Ansätze in Betracht zu ziehen.\n\n------\n\nPowered by addevent.com \nShare your next event with us!\n
X-ALT-DESC;FMTTYPE=text/html:In einer Welt, die zunehmend auf vernetzte Identitätsmanagement-Systeme angewiesen ist, bietet SCIM eine standardisierte Lösung für die automatisierte Verwaltung von Benutzeridentitäten über verschiedene Systeme hinweg. Doch während SCIM als universelle Schnittstelle für Provisionierung und Identity Management angepriesen wird, zeigt sich in der Praxis oft ein komplexes Bild.<br /> <br /> Ist SCIM die ultimative Lösung für die Herausforderungen der Identitätsverwaltung oder entpuppt es sich als schwieriger zu implementierender Standard, der mehr Probleme als Lösungen bietet? In diesem Event gehen wir der Frage nach, wie SCIM in der Realität funktioniert, welche Vorteile es bietet und welche Herausforderungen es mit sich bringen kann. Lassen Sie sich von Experten durch die Feinheiten und Fallstricke führen und finden Sie heraus, ob SCIM tatsächlich Ihre ideale Lösung ist oder ob es an der Zeit ist, alternative Ansätze in Betracht zu ziehen.<br /><br />------<br /><br />Powered by addevent.com <br>Share your next event with us!<br>
UID:1776808237addeventcom
SUMMARY:SCIM (System for Cross-domain Identity Management): Universelle Provisionierungs-Schnittstelle oder unterschätzter Alptraum?
DTSTART;TZID=Europe/Zurich:20250320T143000
DTEND;TZID=Europe/Zurich:20250320T173000
DTSTAMP:20260421T215037Z
TRANSP:OPAQUE
STATUS:CONFIRMED
SEQUENCE:0
LOCATION:https://g.co/kgs/wxRNS6F
X-MICROSOFT-CDO-BUSYSTATUS:BUSY
BEGIN:VALARM
TRIGGER:-PT1440M
ACTION:DISPLAY
DESCRIPTION:Reminder
END:VALARM
END:VEVENT
END:VCALENDAR