BEGIN:VCALENDAR
PRODID:-//AddEvent Inc//AddEvent.com v1.7//EN
VERSION:2.0
BEGIN:VTIMEZONE
TZID:America/Los_Angeles
BEGIN:STANDARD
DTSTART:20261101T010000
RRULE:FREQ=YEARLY;BYDAY=1SU;BYMONTH=11
TZOFFSETFROM:-0700
TZOFFSETTO:-0800
TZNAME:PST
END:STANDARD
BEGIN:DAYLIGHT
DTSTART:20260308T030000
RRULE:FREQ=YEARLY;BYDAY=2SU;BYMONTH=3
TZOFFSETFROM:-0800
TZOFFSETTO:-0700
TZNAME:PDT
END:DAYLIGHT
END:VTIMEZONE
BEGIN:VEVENT
DESCRIPTION:Join us for a discussion with FICO regarding 10T and their Dual Processing offer on ZOOM.\n\nhttps://fico.zoom.us/j/91943753746?pwd=lCADwyKkbPgyxAW4sf7aXWTrtfg6Zi.1&from=addon https://fico.zoom.us/j/91943753746?pwd=lCADwyKkbPgyxAW4sf7aXWTrtfg6Zi.1&from=addon\n\n------\n\nPowered by addevent.com \nShare your next event with us!\n
X-ALT-DESC;FMTTYPE=text/html:Join us for a discussion with FICO regarding 10T and their Dual Processing offer on ZOOM.<br><br><span style="font-size:13px;font-family:"><a href="https://fico.zoom.us/j/91943753746?pwd=lCADwyKkbPgyxAW4sf7aXWTrtfg6Zi.1&from=addon" target="_blank"><span style="color:#00609C;">https://fico.zoom.us/j/91943753746?pwd=lCADwyKkbPgyxAW4sf7aXWTrtfg6Zi.1&from=addon</span></a></span><br /><br />------<br /><br />Powered by addevent.com <br>Share your next event with us!<br>
UID:1776872512addeventcom
SUMMARY:SharperLending/FICO - 10T Dual Processing Offer
DTSTART;TZID=America/Los_Angeles:20240708T100000
DTEND;TZID=America/Los_Angeles:20240708T103000
DTSTAMP:20260422T154152Z
TRANSP:OPAQUE
STATUS:CONFIRMED
SEQUENCE:0
LOCATION:ZOOM Call
X-MICROSOFT-CDO-BUSYSTATUS:BUSY
BEGIN:VALARM
TRIGGER:-PT15M
ACTION:DISPLAY
DESCRIPTION:Reminder
END:VALARM
END:VEVENT
END:VCALENDAR