BEGIN:VCALENDAR
PRODID:-//AddEvent Inc//AddEvent.com v1.7//EN
VERSION:2.0
BEGIN:VTIMEZONE
TZID:Europe/Brussels
BEGIN:STANDARD
DTSTART:20261025T020000
RRULE:FREQ=YEARLY;BYDAY=-1SU;BYMONTH=10
TZOFFSETFROM:+0200
TZOFFSETTO:+0100
TZNAME:CET
END:STANDARD
BEGIN:DAYLIGHT
DTSTART:20260329T030000
RRULE:FREQ=YEARLY;BYDAY=-1SU;BYMONTH=3
TZOFFSETFROM:+0100
TZOFFSETTO:+0200
TZNAME:CEST
END:DAYLIGHT
END:VTIMEZONE
BEGIN:VEVENT
DESCRIPTION:CERRE closes the DMA/DSA 'rendez-vous' series with a high-level discussion of the DMA. Speakers include Cédric O and Andreas Schwab MEP.\n\nThe event is open to all and will be livestreamed on the CERRE website and YouTube channel.\n\nMore info + livestream: https://cerre.eu/events/digital-markets-act-dma-eu-us-global-perspectives/\n\n------\n\nPowered by addevent.com \nShare your next event with us!\n
X-ALT-DESC;FMTTYPE=text/html:CERRE closes the DMA/DSA 'rendez-vous' series with a high-level discussion of the DMA. Speakers include Cédric O and Andreas Schwab MEP.<br><br>The event is open to all and will be livestreamed on the CERRE website and YouTube channel.<br />More info + livestream: https://cerre.eu/events/digital-markets-act-dma-eu-us-global-perspectives/<br /><br />------<br /><br />Powered by addevent.com <br>Share your next event with us!<br>
UID:1776878053addeventcom
SUMMARY:Digital Markets Act: What's next?
DTSTART;TZID=Europe/Brussels:20210504T160000
DTEND;TZID=Europe/Brussels:20210504T173000
DTSTAMP:20260422T171413Z
TRANSP:OPAQUE
STATUS:CONFIRMED
SEQUENCE:0
LOCATION:YouTube Livestream
X-MICROSOFT-CDO-BUSYSTATUS:BUSY
BEGIN:VALARM
TRIGGER:-PT30M
ACTION:DISPLAY
DESCRIPTION:Reminder
END:VALARM
END:VEVENT
END:VCALENDAR