BEGIN:VCALENDAR
PRODID:-//AddEvent Inc//AddEvent.com v1.7//EN
VERSION:2.0
BEGIN:VTIMEZONE
TZID:Europe/Paris
BEGIN:STANDARD
DTSTART:20261025T020000
RRULE:FREQ=YEARLY;BYDAY=-1SU;BYMONTH=10
TZOFFSETFROM:+0200
TZOFFSETTO:+0100
TZNAME:CET
END:STANDARD
BEGIN:DAYLIGHT
DTSTART:20260329T030000
RRULE:FREQ=YEARLY;BYDAY=-1SU;BYMONTH=3
TZOFFSETFROM:+0100
TZOFFSETTO:+0200
TZNAME:CEST
END:DAYLIGHT
END:VTIMEZONE
BEGIN:VEVENT
DESCRIPTION:Publicités & communications ciblées : boostez votre billetterie grâce à vos données \n\nExploiter ses données de manière intuitive est essentiel pour booster ses ventes tout en simplifiant son quotidien. Gigz\, la plateforme marketing désormais intégrée au groupe Weezevent\, permet aux organisateurs de transformer leurs données en campagnes performantes et en communications personnalisées. \n\nCet atelier vous plongera dans les usages concrets de la solution : piloter vos campagnes publicitaires Meta directement depuis vos données de billetterie\, automatiser l’envoi d’emails et de SMS pour engager vos publics au bon moment\, et analyser vos résultats afin d’identifier les canaux de vente les plus efficaces. \n\nÀ travers des cas pratiques\, nous présenterons une approche marketing simple à mettre en œuvre\, adaptée aux réalités du secteur événementiel. L’objectif : vous donner les clés pour vendre plus et gagner du temps dans la gestion quotidienne de vos actions marketing. Animé par Abdoulaye Sambe\, CEO & Fondateur de Gigz by Weezevent\, cet atelier sera également l’occasion d’échanger autour de vos propres enjeux et de poser toutes vos questions.\n\n------\n\nPowered by addevent.com \nShare your next event with us!\n
X-ALT-DESC;FMTTYPE=text/html:<strong>Publicités &amp; communications ciblées : boostez votre billetterie grâce à vos données <br /></strong><br />Exploiter ses données de manière intuitive est essentiel pour booster ses ventes tout en simplifiant son quotidien. Gigz, la plateforme marketing désormais intégrée au groupe Weezevent, permet aux organisateurs de transformer leurs données en campagnes performantes et en communications personnalisées. <br><br>Cet atelier vous plongera dans les usages concrets de la solution : piloter vos campagnes publicitaires Meta directement depuis vos données de billetterie, automatiser l’envoi d’emails et de SMS pour engager vos publics au bon moment, et analyser vos résultats afin d’identifier les canaux de vente les plus efficaces. <br><br>À travers des cas pratiques, nous présenterons une approche marketing simple à mettre en œuvre, adaptée aux réalités du secteur événementiel. L’objectif : vous donner les clés pour vendre plus et gagner du temps dans la gestion quotidienne de vos actions marketing. Animé par Abdoulaye Sambe, CEO &amp; Fondateur de Gigz by Weezevent, cet atelier sera également l’occasion d’échanger autour de vos propres enjeux et de poser toutes vos questions.<br /><br />------<br /><br />Powered by addevent.com <br>Share your next event with us!<br>
UID:1776861032addeventcom
SUMMARY:MaMA - Atelier Weezevent
DTSTART;TZID=Europe/Paris:20251015T110000
DTEND;TZID=Europe/Paris:20251015T114500
DTSTAMP:20260422T123032Z
TRANSP:OPAQUE
STATUS:CONFIRMED
SEQUENCE:0
LOCATION:Le Trianon\, 80 Boulevard Marguerite de Rochechouart\, 75018 Paris
X-MICROSOFT-CDO-BUSYSTATUS:BUSY
BEGIN:VALARM
TRIGGER:-PT30M
ACTION:DISPLAY
DESCRIPTION:Reminder
END:VALARM
END:VEVENT
END:VCALENDAR