BEGIN:VCALENDAR
PRODID:-//AddEvent Inc//AddEvent.com v1.7//EN
VERSION:2.0
BEGIN:VEVENT
DESCRIPTION:Each day will begin at 8:00 AM Pacific / 11:00 AM Eastern and end at 4:00 PM Pacific / 7:00 PM Eastern. Your login link will be emailed to you 1 day before the event begins.\n\n------\n\nPowered by addevent.com \nShare your next event with us!\n
X-ALT-DESC;FMTTYPE=text/html:Each day will begin at 8:00 AM Pacific / 11:00 AM Eastern and end at 4:00 PM Pacific / 7:00 PM Eastern. Your login link will be emailed to you 1 day before the event begins.<br /><br />------<br /><br />Powered by addevent.com <br>Share your next event with us!<br>
UID:1776848884addeventcom
SUMMARY:Virtual Rental Property Bootcamp
DTSTART;VALUE=DATE:20230204
DTEND;VALUE=DATE:20230206
DTSTAMP:20260422T090804Z
TRANSP:OPAQUE
STATUS:CONFIRMED
SEQUENCE:0
X-MICROSOFT-CDO-BUSYSTATUS:BUSY
BEGIN:VALARM
TRIGGER:-PT30M
ACTION:DISPLAY
DESCRIPTION:Reminder
END:VALARM
END:VEVENT
END:VCALENDAR