BEGIN:VCALENDAR
PRODID:-//AddEvent Inc//AddEvent.com v1.7//EN
VERSION:2.0
BEGIN:VTIMEZONE
TZID:Asia/Nicosia
BEGIN:STANDARD
DTSTART:20261025T030000
RRULE:FREQ=YEARLY;BYDAY=-1SU;BYMONTH=10
TZOFFSETFROM:+0300
TZOFFSETTO:+0200
TZNAME:EET
END:STANDARD
BEGIN:DAYLIGHT
DTSTART:20260329T040000
RRULE:FREQ=YEARLY;BYDAY=-1SU;BYMONTH=3
TZOFFSETFROM:+0200
TZOFFSETTO:+0300
TZNAME:EEST
END:DAYLIGHT
END:VTIMEZONE
BEGIN:VEVENT
DESCRIPTION:Το Μεταπτυχιακό Πρόγραμμα «Διοίκηση Μονάδων Υγείας» του Ανοικτού Πανεπιστημίου Κύπρου http://www.ouc.ac.cy (ΑΠΚΥ) διοργανώνει Σεμινάριο με κύριο αντικείμενο την «Ψυχική Υγεία και τους Ψυχοκοινωνικούς Κινδύνους στους Χώρους Εργασίας» την Παρασκευή 17 Φεβρουαρίου 2023. Πρόκειται για ένα διαδραστικό σεμινάριο με ομιλήτριες και ομιλητές από την Κύπρο\, την Ελλάδα και την Γερμανία\, το οποίο επικεντρώνεται στους ψυχοκοινωνικούς κινδύνους που συγκαταλέγονται μεταξύ των μεγαλύτερων προκλήσεων στον τομέα της επαγγελματικής ασφάλειας και υγείας. Το σεμινάριο θα λάβει χώρα μεταξύ 09:00 π.μ. και 13:00 μ.μ. στην Αίθουσα Αρχείου «Τάσσος Παπαδόπουλος» του Ραδιοφωνικού Ιδρύματος Κύπρου (ΡΙΚ) στη Λευκωσία και θα μεταδοθεί ταυτόχρονα και διαδικτυακά μέσω των εργαλείων τηλεκπαίδευσης του ΑΠΚΥ στον σύνδεσμο https://bit.ly/3XViDqP. Στους συμμετέχοντες με φυσική ή διαδικτυακή παρουσία θα δοθεί πιστοποιητικό παρακολούθησης με πέντε μονάδες συνεχιζόμενης επαγγελματικής εκπαίδευσης.\n\n\n\n------\n\nPowered by addevent.com \nShare your next event with us!\n
X-ALT-DESC;FMTTYPE=text/html:Το <strong>Μεταπτυχιακό Πρόγραμμα «Διοίκηση Μονάδων Υγείας</strong>» του <a href="http://www.ouc.ac.cy">Ανοικτού Πανεπιστημίου Κύπρου</a> (ΑΠΚΥ) διοργανώνει <strong>Σεμινάριο </strong>με κύριο αντικείμενο την «<strong>Ψυχική Υγεία και τους Ψυχοκοινωνικούς Κινδύνους στους Χώρους Εργασίας</strong>» την <strong>Παρασκευή 17 Φεβρουαρίου 2023</strong>. Πρόκειται για ένα διαδραστικό σεμινάριο με ομιλήτριες και ομιλητές από την Κύπρο, την Ελλάδα και την Γερμανία, το οποίο επικεντρώνεται στους ψυχοκοινωνικούς κινδύνους που συγκαταλέγονται μεταξύ των μεγαλύτερων προκλήσεων στον τομέα της επαγγελματικής ασφάλειας και υγείας. Το σεμινάριο θα λάβει χώρα <strong>μεταξύ 09:00 π.μ. και 13:00 μ.μ. στην Αίθουσα Αρχείου «Τάσσος Παπαδόπουλος» του Ραδιοφωνικού Ιδρύματος Κύπρου (ΡΙΚ) στη Λευκωσία</strong> και θα μεταδοθεί <strong>ταυτόχρονα και διαδικτυακά </strong>μέσω των εργαλείων τηλεκπαίδευσης του ΑΠΚΥ στον σύνδεσμο <a href="https://bit.ly/3XViDqP">https://bit.ly/3XViDqP</a>. Στους συμμετέχοντες με φυσική ή διαδικτυακή παρουσία θα δοθεί πιστοποιητικό παρακολούθησης με πέντε μονάδες συνεχιζόμενης επαγγελματικής εκπαίδευσης.<br /><div><div><div style="background-image: url("></div><div style="width: 300px; height: 200px; top: 0px; left: 0px; font-size: 13px;"><div style="overflow: hidden;"><div draggable="true"></div><div><p dir="auto"></p><p dir="auto"></p></div></div></div></div></div><br /><br />------<br /><br />Powered by addevent.com <br>Share your next event with us!<br>
UID:1776848667addeventcom
SUMMARY:Σεμινάριο για την Ψυχική Υγεία και τους Ψυχοκοινωνικούς Κινδύνους στους Χώρους Εργασίας
DTSTART;TZID=Asia/Nicosia:20230217T090000
DTEND;TZID=Asia/Nicosia:20230217T130000
DTSTAMP:20260422T090427Z
TRANSP:OPAQUE
STATUS:CONFIRMED
SEQUENCE:0
LOCATION:Αίθουσα Αρχείου «Τάσσος Παπαδόπουλος» στο ΡΙΚ (Λευκωσία) με ταυτόχρονη διαδικτυακή μετάδοση
X-MICROSOFT-CDO-BUSYSTATUS:BUSY
BEGIN:VALARM
TRIGGER:-PT60M
ACTION:DISPLAY
DESCRIPTION:Reminder
END:VALARM
END:VEVENT
END:VCALENDAR