BEGIN:VCALENDAR
PRODID:-//AddEvent Inc//AddEvent.com v1.7//EN
VERSION:2.0
BEGIN:VTIMEZONE
TZID:Europe/Madrid
BEGIN:STANDARD
DTSTART:20261025T020000
RRULE:FREQ=YEARLY;BYDAY=-1SU;BYMONTH=10
TZOFFSETFROM:+0200
TZOFFSETTO:+0100
TZNAME:CET
END:STANDARD
BEGIN:DAYLIGHT
DTSTART:20260329T030000
RRULE:FREQ=YEARLY;BYDAY=-1SU;BYMONTH=3
TZOFFSETFROM:+0100
TZOFFSETTO:+0200
TZNAME:CEST
END:DAYLIGHT
END:VTIMEZONE
BEGIN:VEVENT
DESCRIPTION:Haz clic aquí http://evento-faraday-barcelona-invitados para acceder a la página de registro.<br data-start="51" data-end="54" />Haz clic aquí https://www.addevent.com/event/EC22484696+google para añadir el evento al calendario.\n\n------\n\nPowered by addevent.com \nShare your next event with us!\n
X-ALT-DESC;FMTTYPE=text/html:Haz clic <a href="http://evento-faraday-barcelona-invitados" target="_blank" rel="noopener noreferrer">aquí</a> para acceder a la página de registro.<br data-start="51" data-end="54" />Haz clic <a href="https://www.addevent.com/event/EC22484696+google" target="_blank" rel="noopener noreferrer">aquí</a> para añadir el evento al calendario.<br /><br />------<br /><br />Powered by addevent.com <br>Share your next event with us!<br>
UID:1776881614addeventcom
SUMMARY:Evento Faraday @Barcelona
DTSTART;TZID=Europe/Madrid:20260528T183000
DTEND;TZID=Europe/Madrid:20260528T213000
DTSTAMP:20260422T181334Z
TRANSP:OPAQUE
STATUS:CONFIRMED
SEQUENCE:0
LOCATION:Hub Sabadell (Passatge Mercader\, 7-9)
X-MICROSOFT-CDO-BUSYSTATUS:BUSY
BEGIN:VALARM
TRIGGER:-PT1440M
ACTION:DISPLAY
DESCRIPTION:Reminder
END:VALARM
END:VEVENT
END:VCALENDAR