BEGIN:VCALENDAR
PRODID:-//AddEvent Inc//AddEvent.com v1.7//EN
VERSION:2.0
BEGIN:VTIMEZONE
TZID:America/Chicago
BEGIN:STANDARD
DTSTART:20261101T010000
RRULE:FREQ=YEARLY;BYDAY=1SU;BYMONTH=11
TZOFFSETFROM:-0500
TZOFFSETTO:-0600
TZNAME:CST
END:STANDARD
BEGIN:DAYLIGHT
DTSTART:20260308T030000
RRULE:FREQ=YEARLY;BYDAY=2SU;BYMONTH=3
TZOFFSETFROM:-0600
TZOFFSETTO:-0500
TZNAME:CDT
END:DAYLIGHT
END:VTIMEZONE
BEGIN:VEVENT
DESCRIPTION:After a full day at Relativity Fest\, unwind just 15 minutes from the Hyatt Regency in one of Chicago’s most iconic hidden lounges.\n\nThis is where the real ones gather. Join CDS for an exclusive evening of cocktails\, food\, music\, and unbeatable networking — Chicago style.\n\nEvent Details:\n\n• Date: Wednesday\, October 8\, 2025\n• Time: 7:00 PM – 10:00 PM\n• Location: Untitled Supper Club – Cabaret Lounge\n111 W Kinzie Street\nChicago\, IL 60654\n\nMention “Complete Discovery Source” at the entrance to gain access to the Cabaret Lounge at Untitled and enjoy a night of connections\, conversations\, and Chicago vibes.\n\n------\n\nPowered by addevent.com \nShare your next event with us!\n
X-ALT-DESC;FMTTYPE=text/html:After a full day at Relativity Fest, unwind just 15 minutes from the Hyatt Regency in one of Chicago’s most iconic hidden lounges.<br><br>This is where the real ones gather. Join CDS for an exclusive evening of cocktails, food, music, and unbeatable networking — Chicago style.<br><br><strong>Event Details:</strong><br /><ul><li><strong>Date: </strong>Wednesday, October 8, 2025</li><li><strong>Time: </strong>7:00 PM – 10:00 PM</li><li><strong>Location: </strong>Untitled Supper Club – Cabaret Lounge<br />111 W Kinzie Street<br />Chicago, IL 60654</li></ul>Mention “Complete Discovery Source” at the entrance to gain access to the Cabaret Lounge at Untitled and enjoy a night of connections, conversations, and Chicago vibes.<br /><br />------<br /><br />Powered by addevent.com <br>Share your next event with us!<br>
UID:1776603570addeventcom
SUMMARY:CDS Speakeasy starts at 7 PM!
DTSTART;TZID=America/Chicago:20251008T190000
DTEND;TZID=America/Chicago:20251008T230000
DTSTAMP:20260419T125930Z
TRANSP:OPAQUE
STATUS:CONFIRMED
SEQUENCE:0
LOCATION:111 W Kinzie St\, Chicago\, 60654\, IL\, USA
X-MICROSOFT-CDO-BUSYSTATUS:BUSY
BEGIN:VALARM
TRIGGER:-PT60M
ACTION:DISPLAY
DESCRIPTION:Reminder
END:VALARM
END:VEVENT
END:VCALENDAR