BEGIN:VCALENDAR
PRODID:-//AddEvent Inc//AddEvent.com v1.7//EN
VERSION:2.0
BEGIN:VTIMEZONE
TZID:America/New_York
BEGIN:STANDARD
DTSTART:20261101T010000
RRULE:FREQ=YEARLY;BYDAY=1SU;BYMONTH=11
TZOFFSETFROM:-0400
TZOFFSETTO:-0500
TZNAME:EST
END:STANDARD
BEGIN:DAYLIGHT
DTSTART:20260308T030000
RRULE:FREQ=YEARLY;BYDAY=2SU;BYMONTH=3
TZOFFSETFROM:-0500
TZOFFSETTO:-0400
TZNAME:EDT
END:DAYLIGHT
END:VTIMEZONE
BEGIN:VEVENT
DESCRIPTION:Topic: Living Like Roommates - Live Workshop\nTime: Feb 20\, 2024 04:00 PM Eastern Time (US and Canada)\n\nJoin Zoom Meeting\nhttps://us02web.zoom.us/j/87568828118\n\nMeeting ID: 875 6882 8118\n\n---\n\nOne tap mobile\n+13092053325\,\,87568828118# US\n+13126266799\,\,87568828118# US (Chicago)\n\n---\n\nDial by your location\n• +1 309 205 3325 US\n• +1 312 626 6799 US (Chicago)\n• +1 301 715 8592 US (Washington DC)\n• +1 253 215 8782 US (Tacoma)\n• +1 346 248 7799 US (Houston)\n• +1 669 900 6833 US (San Jose)\n\nMeeting ID: 875 6882 8118\n\nFind your local number: https://us02web.zoom.us/u/kb5KbMI5g\n\n\n\n------\n\nPowered by addevent.com \nShare your next event with us!\n
X-ALT-DESC;FMTTYPE=text/html:Topic: Living Like Roommates - Live Workshop<br />Time: Feb 20, 2024 04:00 PM Eastern Time (US and Canada)<br><br>Join Zoom Meeting<br />https://us02web.zoom.us/j/87568828118<br><br>Meeting ID: 875 6882 8118<br><br>---<br><br>One tap mobile<br />+13092053325,,87568828118# US<br />+13126266799,,87568828118# US (Chicago)<br><br>---<br><br>Dial by your location<br />• +1 309 205 3325 US<br />• +1 312 626 6799 US (Chicago)<br />• +1 301 715 8592 US (Washington DC)<br />• +1 253 215 8782 US (Tacoma)<br />• +1 346 248 7799 US (Houston)<br />• +1 669 900 6833 US (San Jose)<br><br>Meeting ID: 875 6882 8118<br><br>Find your local number: https://us02web.zoom.us/u/kb5KbMI5g<br><br><br /><br />------<br /><br />Powered by addevent.com <br>Share your next event with us!<br>
UID:1776973364addeventcom
SUMMARY:Living Like Roommates - Live Workshop
DTSTART;TZID=America/New_York:20240220T160000
DTEND;TZID=America/New_York:20240220T173000
DTSTAMP:20260423T194244Z
TRANSP:OPAQUE
STATUS:CONFIRMED
SEQUENCE:0
X-MICROSOFT-CDO-BUSYSTATUS:BUSY
BEGIN:VALARM
TRIGGER:-PT30M
ACTION:DISPLAY
DESCRIPTION:Reminder
END:VALARM
END:VEVENT
END:VCALENDAR