BEGIN:VCALENDAR
PRODID:-//AddEvent Inc//AddEvent.com v1.7//EN
VERSION:2.0
BEGIN:VTIMEZONE
TZID:Europe/Berlin
BEGIN:STANDARD
DTSTART:20261025T020000
RRULE:FREQ=YEARLY;BYDAY=-1SU;BYMONTH=10
TZOFFSETFROM:+0200
TZOFFSETTO:+0100
TZNAME:CET
END:STANDARD
BEGIN:DAYLIGHT
DTSTART:20260329T030000
RRULE:FREQ=YEARLY;BYDAY=-1SU;BYMONTH=3
TZOFFSETFROM:+0100
TZOFFSETTO:+0200
TZNAME:CEST
END:DAYLIGHT
END:VTIMEZONE
BEGIN:VEVENT
DESCRIPTION:Wie du als Coach\, Berater oder Experte jeden Monat online 30-50 qualifizierte Kundenanfragen durch das MMS 4-Schritte Neukunden-System generierst\n\nDeine Meinung interessiert uns. Wir wollen dir relevanten Content bieten. Bitte fülle die kurze Umfrage aus (2 Minuten) und sag uns\, was dich interessiert.  \nhttps://zfrmz.eu/JMc1MayRLU9bYAmzjXBY\n\n------\n\nPowered by addevent.com \nShare your next event with us!\n
X-ALT-DESC;FMTTYPE=text/html:Wie du als Coach, Berater oder Experte jeden Monat online 30-50 qualifizierte Kundenanfragen durch das MMS 4-Schritte Neukunden-System generierst<br><br>Deine Meinung interessiert uns. Wir wollen dir relevanten Content bieten. Bitte fülle die kurze Umfrage aus (2 Minuten) und sag uns, was dich interessiert.  <br /><a data-fr-linked="true" href="https://zfrmz.eu/JMc1MayRLU9bYAmzjXBY">https://zfrmz.eu/JMc1MayRLU9bYAmzjXBY</a><br /><br />------<br /><br />Powered by addevent.com <br>Share your next event with us!<br>
UID:1776788681addeventcom
SUMMARY:KUNDENMAGNET Workshop
DTSTART;TZID=Europe/Berlin:20250226T190000
DTEND;TZID=Europe/Berlin:20250226T213000
DTSTAMP:20260421T162441Z
TRANSP:OPAQUE
STATUS:CONFIRMED
SEQUENCE:0
X-MICROSOFT-CDO-BUSYSTATUS:BUSY
BEGIN:VALARM
TRIGGER:-PT30M
ACTION:DISPLAY
DESCRIPTION:Reminder
END:VALARM
END:VEVENT
END:VCALENDAR