BEGIN:VCALENDAR
PRODID:-//AddEvent Inc//AddEvent.com v1.7//EN
VERSION:2.0
BEGIN:VTIMEZONE
TZID:Europe/Moscow
BEGIN:STANDARD
DTSTART:20141026T010000
TZOFFSETFROM:+0300
TZOFFSETTO:+0300
TZNAME:MSK
END:STANDARD
END:VTIMEZONE
BEGIN:VEVENT
DESCRIPTION:Мастер класс для профессиональных танцовщиков\n\n------\n\nPowered by addevent.com \nShare your next event with us!\n
X-ALT-DESC;FMTTYPE=text/html:Мастер класс для профессиональных танцовщиков<br /><br />------<br /><br />Powered by addevent.com <br>Share your next event with us!<br>
UID:1776658734addeventcom
SUMMARY:Жюли Анна Станзак. Театр танца Вупперталь Пины Бауш. «Гвоздики».
DTSTART;TZID=Europe/Moscow:20201128T140000
DTEND;TZID=Europe/Moscow:20201128T160000
DTSTAMP:20260420T041854Z
TRANSP:OPAQUE
STATUS:CONFIRMED
SEQUENCE:0
LOCATION:live.contextfest.com
X-MICROSOFT-CDO-BUSYSTATUS:BUSY
BEGIN:VALARM
TRIGGER:-PT60M
ACTION:DISPLAY
DESCRIPTION:Reminder
END:VALARM
END:VEVENT
END:VCALENDAR