BEGIN:VCALENDAR
PRODID:-//AddEvent Inc//AddEvent.com v1.7//EN
VERSION:2.0
BEGIN:VTIMEZONE
TZID:Europe/Warsaw
BEGIN:STANDARD
DTSTART:20261025T020000
RRULE:FREQ=YEARLY;BYDAY=-1SU;BYMONTH=10
TZOFFSETFROM:+0200
TZOFFSETTO:+0100
TZNAME:CET
END:STANDARD
BEGIN:DAYLIGHT
DTSTART:20260329T030000
RRULE:FREQ=YEARLY;BYDAY=-1SU;BYMONTH=3
TZOFFSETFROM:+0100
TZOFFSETTO:+0200
TZNAME:CEST
END:DAYLIGHT
END:VTIMEZONE
BEGIN:VEVENT
DESCRIPTION:QUERCUS Dłużny Krótkoterminowy czyli najnowsza historia sukcesu\, pytania o najbliższą przyszłość i realne do osiągnięcia zyski\, o czym opowie zarządzający funduszem 💥 💥 💥 Mariusz Zaród z Quercus TFI 💥 💥 💥 \n\nNagroda Alfa 2023\, a wcześniej 2021. Ryzyko na dwa w siedmiostopniowej skali. Obligacje skarbu państwa i gwarantowane przez skarb państwa\, ale też ponad 40 procent portfela w obligacjach korporacyjnych. \n\nPolski rynek dla funduszu stał się za ciasny i dlatego w części korporacyjnej przybywa emitentów z innych europejskich rynków. \n\nJak działa obecnie takie skarbowo\, korporacyjno\, międzynarodowe combo i jaki wpływ na wyniki będą miały decyzje dotyczące stóp procentowych?  \n\nZapraszamy do uczestnictwa na żywo. Unikalna okazja przepytania zarządzającego. Jeśli na żywo się nie uda\, prosimy o komentarze pod filmem😊
X-ALT-DESC;FMTTYPE=text/html:QUERCUS Dłużny Krótkoterminowy czyli najnowsza historia sukcesu, pytania o najbliższą przyszłość i realne do osiągnięcia zyski, o czym opowie zarządzający funduszem 💥 💥 💥 Mariusz Zaród z Quercus TFI 💥 💥 💥 <br><br>Nagroda Alfa 2023, a wcześniej 2021. Ryzyko na dwa w siedmiostopniowej skali. Obligacje skarbu państwa i gwarantowane przez skarb państwa, ale też ponad 40 procent portfela w obligacjach korporacyjnych. <br><br>Polski rynek dla funduszu stał się za ciasny i dlatego w części korporacyjnej przybywa emitentów z innych europejskich rynków. <br><br>Jak działa obecnie takie skarbowo, korporacyjno, międzynarodowe combo i jaki wpływ na wyniki będą miały decyzje dotyczące stóp procentowych?  <br><br>Zapraszamy do uczestnictwa na żywo. Unikalna okazja przepytania zarządzającego. Jeśli na żywo się nie uda, prosimy o komentarze pod filmem😊
UID:1776786402addeventcom
SUMMARY:2024-07-18 Prosto w fundusz - QUERCUS Dłużny Krótkoterminowy
DTSTART;TZID=Europe/Warsaw:20240718T120000
DTEND;TZID=Europe/Warsaw:20240718T130000
DTSTAMP:20260421T154642Z
TRANSP:OPAQUE
STATUS:CONFIRMED
SEQUENCE:0
LOCATION:https://www.youtube.com/watch?v=ACHzClUpGfA
X-MICROSOFT-CDO-BUSYSTATUS:BUSY
BEGIN:VALARM
TRIGGER:-PT60M
ACTION:DISPLAY
DESCRIPTION:Reminder
END:VALARM
END:VEVENT
END:VCALENDAR