BEGIN:VCALENDAR
PRODID:-//AddEvent Inc//AddEvent.com v1.7//EN
VERSION:2.0
BEGIN:VTIMEZONE
TZID:America/Vancouver
BEGIN:STANDARD
DTSTART:20261101T010000
RRULE:FREQ=YEARLY;BYDAY=1SU;BYMONTH=11
TZOFFSETFROM:-0700
TZOFFSETTO:-0800
TZNAME:PST
END:STANDARD
BEGIN:DAYLIGHT
DTSTART:20260308T030000
RRULE:FREQ=YEARLY;BYDAY=2SU;BYMONTH=3
TZOFFSETFROM:-0800
TZOFFSETTO:-0700
TZNAME:PDT
END:DAYLIGHT
END:VTIMEZONE
BEGIN:VEVENT
DESCRIPTION:Join us and our panel for a discussion on the current real estate market trends in BC’s most\n\nactive rural markets.\n\nPlease click the link below to join the webinar:\n\nhttps://mlacanada.zoom.us/j/87967383526\n\nWebinar ID: 879 6738 3526\n\nOr One tap mobile :\n\nCanada: +15873281099\,\,87967383526# or +16473744685\,\,87967383526#\n\nOr Telephone:\n\nDial(for higher quality\, dial a number based on your current location):\n\nCanada: +1 587 328 1099 or +1 647 374 4685 or +1 647 558 0588 or +1 778 907 2071 or +1 204 272 7920 or +1 438 809 7799\n\nInternational numbers available: https://mlacanada.zoom.us/u/kbQOTAWS8Y\n\n------\n\nPowered by addevent.com \nShare your next event with us!\n
X-ALT-DESC;FMTTYPE=text/html:Join us and our panel for a discussion on the current real estate market trends in BC’s most<br />active rural markets.<br><br>Please click the link below to join the webinar:<br />https://mlacanada.zoom.us/j/87967383526<br><br>Webinar ID: 879 6738 3526<br><br>Or One tap mobile :<br />Canada: +15873281099,,87967383526# or +16473744685,,87967383526#<br />Or Telephone:<br />Dial(for higher quality, dial a number based on your current location):<br />Canada: +1 587 328 1099 or +1 647 374 4685 or +1 647 558 0588 or +1 778 907 2071 or +1 204 272 7920 or +1 438 809 7799<br><br>International numbers available: https://mlacanada.zoom.us/u/kbQOTAWS8Y<br /><br />------<br /><br />Powered by addevent.com <br>Share your next event with us!<br>
UID:1776761248addeventcom
SUMMARY:The Rise of Rural Markets in BC | MLA Canada
DTSTART;TZID=America/Vancouver:20211015T090000
DTEND;TZID=America/Vancouver:20211015T101500
DTSTAMP:20260421T084728Z
TRANSP:OPAQUE
STATUS:CONFIRMED
SEQUENCE:0
LOCATION:Zoom
X-MICROSOFT-CDO-BUSYSTATUS:BUSY
BEGIN:VALARM
TRIGGER:-PT30M
ACTION:DISPLAY
DESCRIPTION:Reminder
END:VALARM
END:VEVENT
END:VCALENDAR