BEGIN:VCALENDAR
PRODID:-//AddEvent Inc//AddEvent.com v1.7//EN
VERSION:2.0
BEGIN:VTIMEZONE
TZID:America/Los_Angeles
BEGIN:STANDARD
DTSTART:20261101T010000
RRULE:FREQ=YEARLY;BYDAY=1SU;BYMONTH=11
TZOFFSETFROM:-0700
TZOFFSETTO:-0800
TZNAME:PST
END:STANDARD
BEGIN:DAYLIGHT
DTSTART:20260308T030000
RRULE:FREQ=YEARLY;BYDAY=2SU;BYMONTH=3
TZOFFSETFROM:-0800
TZOFFSETTO:-0700
TZNAME:PDT
END:DAYLIGHT
END:VTIMEZONE
BEGIN:VEVENT
DESCRIPTION:Talk Title: Cross platform Augmented Reality development with Unity by Arjun Dube\n\nTalk Abstract: In this session we will walk through creating a multi-platform Unity project which supports iOS\, Android and Lumin (Magic Leap). We will create a simple example app that makes use of some of the foundational components of augmented reality development i.e. Image tracking\, 3D object tracking\, Plane detection\, Ray casting and Animations. Our sample app will help you put together a LEGO model with 3D animated instructions overlaid over your manual.\n\n------\n\nPowered by addevent.com \nShare your next event with us!\n
X-ALT-DESC;FMTTYPE=text/html:Talk Title: Cross platform Augmented Reality development with Unity by Arjun Dube<br />Talk Abstract: In this session we will walk through creating a multi-platform Unity project which supports iOS, Android and Lumin (Magic Leap). We will create a simple example app that makes use of some of the foundational components of augmented reality development i.e. Image tracking, 3D object tracking, Plane detection, Ray casting and Animations. Our sample app will help you put together a LEGO model with 3D animated instructions overlaid over your manual.<br /><br />------<br /><br />Powered by addevent.com <br>Share your next event with us!<br>
UID:1777067530addeventcom
SUMMARY:Cross platform Augmented Reality development with Unity
DTSTART;TZID=America/Los_Angeles:20200504T120000
DTEND;TZID=America/Los_Angeles:20200504T130000
DTSTAMP:20260424T215210Z
TRANSP:OPAQUE
STATUS:CONFIRMED
SEQUENCE:0
LOCATION:www.youtube.com/vmwarecode
X-MICROSOFT-CDO-BUSYSTATUS:BUSY
BEGIN:VALARM
TRIGGER:-PT60M
ACTION:DISPLAY
DESCRIPTION:Reminder
END:VALARM
END:VEVENT
END:VCALENDAR