BEGIN:VCALENDAR
PRODID:-//AddEvent Inc//AddEvent.com v1.7//EN
VERSION:2.0
BEGIN:VTIMEZONE
TZID:America/New_York
BEGIN:STANDARD
DTSTART:20261101T010000
RRULE:FREQ=YEARLY;BYDAY=1SU;BYMONTH=11
TZOFFSETFROM:-0400
TZOFFSETTO:-0500
TZNAME:EST
END:STANDARD
BEGIN:DAYLIGHT
DTSTART:20260308T030000
RRULE:FREQ=YEARLY;BYDAY=2SU;BYMONTH=3
TZOFFSETFROM:-0500
TZOFFSETTO:-0400
TZNAME:EDT
END:DAYLIGHT
END:VTIMEZONE
BEGIN:VEVENT
DESCRIPTION:Please use the following link to access the session up to 15 minutes prior to the event start time:  https://event.on24.com/wcc/r/3337340/2588A94FBDEA04BE8DE0AD3987B19E81\n\nPrior to the pandemic\, the future of retail had been hypothesized\, but not actualized completely. In 2020\, the vision was crystalized and now\, the picture is quite clear. Retailers prioritized their omnichannel experiences\, adapting operations and processes to how customers lived\, worked and played. Operational excellence drove success amidst chaos for many. So\, how will these experiences and lessons learned drive how retailers prioritize and plan for future initiatives?\n\nJoin industry pro Randy Dunn of Sensormatic Solutions\, and guest Leslie Hand of IDC\, for an interactive conversation as they review the latest industry research. They’ll discuss how retailers have shifted their thinking\, focus and investments to ensure they have the ability to understand their business and customer in any moment — and the agility to deliver outcome driven execution and meet demand no matter the landscape. Register to learn:\n\n• The ramifications of the pandemic for retailers\;\n\n• Six business processes necessary now to drive business growth\;\n\n• Where retailers are investing now\;\n\n• New challenges that retailers will face in 2022 and what industry leaders are doing to proactively adapt\; and \n\n• What the future customer experience looks like and how to prepare
X-ALT-DESC;FMTTYPE=text/html:Please use the following link to access the session up to 15 minutes prior to the event start time:  https://event.on24.com/wcc/r/3337340/2588A94FBDEA04BE8DE0AD3987B19E81<br><br>Prior to the pandemic, the future of retail had been hypothesized, but not actualized completely. In 2020, the vision was crystalized and now, the picture is quite clear. Retailers prioritized their omnichannel experiences, adapting operations and processes to how customers lived, worked and played. Operational excellence drove success amidst chaos for many. So, how will these experiences and lessons learned drive how retailers prioritize and plan for future initiatives?<br><br>Join industry pro Randy Dunn of Sensormatic Solutions, and guest Leslie Hand of IDC, for an interactive conversation as they review the latest industry research. They’ll discuss how retailers have shifted their thinking, focus and investments to ensure they have the ability to understand their business and customer in any moment — and the agility to deliver outcome driven execution and meet demand no matter the landscape. Register to learn:<br><br>•The ramifications of the pandemic for retailers;<br />•Six business processes necessary now to drive business growth;<br />•Where retailers are investing now;<br />•New challenges that retailers will face in 2022 and what industry leaders are doing to proactively adapt; and <br />•What the future customer experience looks like and how to prepare
UID:1776860406addeventcom
SUMMARY:Insight. Action. Outcome. Put Away the Crystal Ball\, Retail’s Future is Clear
DTSTART;TZID=America/New_York:20210916T120000
DTEND;TZID=America/New_York:20210916T130000
DTSTAMP:20260422T122006Z
TRANSP:OPAQUE
STATUS:CONFIRMED
SEQUENCE:0
LOCATION:https://event.on24.com/wcc/r/3337340/2588A94FBDEA04BE8DE0AD3987B19E81
X-MICROSOFT-CDO-BUSYSTATUS:BUSY
BEGIN:VALARM
TRIGGER:-PT15M
ACTION:DISPLAY
DESCRIPTION:Reminder
END:VALARM
END:VEVENT
END:VCALENDAR