BEGIN:VCALENDAR
PRODID:-//AddEvent Inc//AddEvent.com v1.7//EN
VERSION:2.0
BEGIN:VTIMEZONE
TZID:America/Denver
BEGIN:STANDARD
DTSTART:20261101T010000
RRULE:FREQ=YEARLY;BYDAY=1SU;BYMONTH=11
TZOFFSETFROM:-0600
TZOFFSETTO:-0700
TZNAME:MST
END:STANDARD
BEGIN:DAYLIGHT
DTSTART:20260308T030000
RRULE:FREQ=YEARLY;BYDAY=2SU;BYMONTH=3
TZOFFSETFROM:-0700
TZOFFSETTO:-0600
TZNAME:MDT
END:DAYLIGHT
END:VTIMEZONE
BEGIN:VEVENT
DESCRIPTION:Join us for the opening of two captivating solo exhibitions at Abend Gallery:\n"Wind Lake\, A Family Story" by Sheri Farabaugh\n\nImmerse yourself in nostalgic oil paintings celebrating four generations of family memories centered around a cherished Wisconsin lakeside cottage.\n"Heartland" by Michael Miller\n\nExperience the essence of rural America through 16 oil paintings showcasing the beauty of countryside landscapes and iconic barns.\n\n📅 Exhibition Dates: September 20 - October 8\, 2024 \n🎉 Opening Reception: September 20\, 2024\, 5:00 PM-8:00 PM (Both artists in attendance) \n📍 Location: Abend Gallery\, 1261 Delaware St\, Suite 2\, Denver\, CO 80204\n\nDon't miss this unique opportunity to meet the artists and be among the first to view these evocative exhibitions. From lakeside nostalgia to rural Americana\, these shows offer a visual journey through cherished moments and landscapes. Join us for an evening of art\, storytelling\, and celebration at Abend Gallery.\n\n------\n\nPowered by addevent.com \nShare your next event with us!\n
X-ALT-DESC;FMTTYPE=text/html:Join us for the opening of two captivating solo exhibitions at Abend Gallery:<br /><h2>"Wind Lake, A Family Story" by Sheri Farabaugh</h2>Immerse yourself in nostalgic oil paintings celebrating four generations of family memories centered around a cherished Wisconsin lakeside cottage.<br /><h2>"Heartland" by Michael Miller</h2>Experience the essence of rural America through 16 oil paintings showcasing the beauty of countryside landscapes and iconic barns.<br><br>📅 Exhibition Dates: September 20 - October 8, 2024 <br />🎉 Opening Reception: September 20, 2024, 5:00 PM-8:00 PM (Both artists in attendance) <br />📍 Location: Abend Gallery, 1261 Delaware St, Suite 2, Denver, CO 80204<br><br>Don't miss this unique opportunity to meet the artists and be among the first to view these evocative exhibitions. From lakeside nostalgia to rural Americana, these shows offer a visual journey through cherished moments and landscapes. Join us for an evening of art, storytelling, and celebration at Abend Gallery.<br /><br />------<br /><br />Powered by addevent.com <br>Share your next event with us!<br>
UID:1776642289addeventcom
SUMMARY:Abend Gallery Presents: A Dual Exhibition Opening
DTSTART;TZID=America/Denver:20240920T170000
DTEND;TZID=America/Denver:20240920T200000
DTSTAMP:20260419T234449Z
TRANSP:OPAQUE
STATUS:CONFIRMED
SEQUENCE:0
LOCATION:1261 Delaware St\, Denver\, 80204\, CO\, USA
X-MICROSOFT-CDO-BUSYSTATUS:BUSY
BEGIN:VALARM
TRIGGER:-PT120M
ACTION:DISPLAY
DESCRIPTION:Reminder
END:VALARM
END:VEVENT
END:VCALENDAR