BEGIN:VCALENDAR
PRODID:-//AddEvent Inc//AddEvent.com v1.7//EN
VERSION:2.0
BEGIN:VTIMEZONE
TZID:Europe/Berlin
BEGIN:STANDARD
DTSTART:20261025T020000
RRULE:FREQ=YEARLY;BYDAY=-1SU;BYMONTH=10
TZOFFSETFROM:+0200
TZOFFSETTO:+0100
TZNAME:CET
END:STANDARD
BEGIN:DAYLIGHT
DTSTART:20260329T030000
RRULE:FREQ=YEARLY;BYDAY=-1SU;BYMONTH=3
TZOFFSETFROM:+0100
TZOFFSETTO:+0200
TZNAME:CEST
END:DAYLIGHT
END:VTIMEZONE
BEGIN:VEVENT
DESCRIPTION:Klicke auf den Button und trage dir jetzt den Termin in deinen Kalender ein. ⤵\n\n
X-ALT-DESC;FMTTYPE=text/html:<div data-font-kit-type="custom"><div data-font-kit-type="custom" data-text-prop="text"><div data-block-key="8r4b3" data-font-kit-type="custom" data-quark="block">Klicke auf den Button und trage dir jetzt den Termin in deinen Kalender ein. <strong>⤵</strong></div></div></div>
UID:1776605457addeventcom
SUMMARY:“Der stille Wandel” - Live-Training: Ausgebucht sein als Selbstständiger ist kein Zufall
DTSTART;TZID=Europe/Berlin:20260506T110000
DTEND;TZID=Europe/Berlin:20260506T130000
DTSTAMP:20260419T133057Z
TRANSP:OPAQUE
STATUS:CONFIRMED
SEQUENCE:0
X-MICROSOFT-CDO-BUSYSTATUS:BUSY
BEGIN:VALARM
TRIGGER:-PT15M
ACTION:DISPLAY
DESCRIPTION:Reminder
END:VALARM
END:VEVENT
END:VCALENDAR