BEGIN:VCALENDAR
PRODID:-//AddEvent Inc//AddEvent.com v1.7//EN
VERSION:2.0
BEGIN:VTIMEZONE
TZID:America/Denver
BEGIN:STANDARD
DTSTART:20261101T010000
RRULE:FREQ=YEARLY;BYDAY=1SU;BYMONTH=11
TZOFFSETFROM:-0600
TZOFFSETTO:-0700
TZNAME:MST
END:STANDARD
BEGIN:DAYLIGHT
DTSTART:20260308T030000
RRULE:FREQ=YEARLY;BYDAY=2SU;BYMONTH=3
TZOFFSETFROM:-0700
TZOFFSETTO:-0600
TZNAME:MDT
END:DAYLIGHT
END:VTIMEZONE
BEGIN:VEVENT
DESCRIPTION:You’re invited to a summer evening of connection\, climate action\, and community spirit - all in support of Families for a Livable Climate (FLC). FLC is building a powerful\, people-centered climate movement here in Montana\, and we want you to join in!\n\nWhen: June 17\, 2025 from 5:30-7:30pm (program begins at 6)\nWhere: Broken Ground\, 1505 Bridger Drive\, Bozeman\, MT 59715\nLight snacks and drinks provided. Dress is casual and the vibe is joyful. Kids are welcome!\n\nAt the event\, you’ll learn about ways to get involved in FLC\, upcoming campaigns and events\, and how your support can help power this growing movement. Cash\, check\, Venmo\, PayPal\, and online donations https://livableclimate.nationbuilder.com/donate will all be accepted. Every dollar mobilizes families\, turns up the volume on climate\, and champions solutions that safeguard our children's futures. The evening will also include a tour of the Broken Ground food forest - a beautiful space to learn about local food!\n\nPlease RSVP as soon as possible\, but no later than June 10. If you’re unable to make it but would like to show your support\, you can donate online here https://livableclimate.nationbuilder.com/donate or mail a check to Families for a Livable Climate\, 120 Hickory St Suite A #2\, Missoula\, MT 59801. You can also sign up to volunteer or for FLC’s newsletter or to volunteer here https://livableclimate.nationbuilder.com/ to stay up-to-date and get involved.\n\n------\n\nPowered by addevent.com \nShare your next event with us!\n
X-ALT-DESC;FMTTYPE=text/html:You’re invited to a summer evening of connection, climate action, and community spirit - all in support of Families for a Livable Climate (FLC). FLC is building a powerful, people-centered climate movement here in Montana, and we want you to join in!<br><br><strong>When: June 17, 2025 from 5:30-7:30pm (program begins at 6)<br />Where: Broken Ground, 1505 Bridger Drive, Bozeman, MT 59715</strong><br /><p dir="ltr">Light snacks and drinks provided. Dress is casual and the vibe is joyful. Kids are welcome!</p><p dir="ltr">At the event, you’ll learn about ways to get involved in FLC, upcoming campaigns and events, and how your support can help power this growing movement. Cash, check, Venmo, PayPal, and <a href="https://livableclimate.nationbuilder.com/donate">online donations</a> will all be accepted. Every dollar mobilizes families, turns up the volume on climate, and champions solutions that safeguard our children's futures. The evening will also include a tour of the Broken Ground food forest - a beautiful space to learn about local food!</p>Please RSVP as soon as possible, but no later than June 10. If you’re unable to make it but would like to show your support, you can <a href="https://livableclimate.nationbuilder.com/donate">donate online here</a> or mail a check to Families for a Livable Climate, 120 Hickory St Suite A #2, Missoula, MT 59801. You can also sign up to volunteer or for FLC’s newsletter or to volunteer <a href="https://livableclimate.nationbuilder.com/">here</a> to stay up-to-date and get involved.<br /><br />------<br /><br />Powered by addevent.com <br>Share your next event with us!<br>
UID:1777027468addeventcom
SUMMARY:Garden Party for a Livable Climate
DTSTART;TZID=America/Denver:20250617T173000
DTEND;TZID=America/Denver:20250617T193000
DTSTAMP:20260424T104428Z
TRANSP:OPAQUE
STATUS:CONFIRMED
SEQUENCE:0
LOCATION:1505 Bridger Drive\, Bozeman\, MT 59715
X-MICROSOFT-CDO-BUSYSTATUS:BUSY
BEGIN:VALARM
TRIGGER:-PT30M
ACTION:DISPLAY
DESCRIPTION:Reminder
END:VALARM
END:VEVENT
END:VCALENDAR