BEGIN:VCALENDAR
PRODID:-//AddEvent Inc//AddEvent.com v1.7//EN
VERSION:2.0
BEGIN:VTIMEZONE
TZID:Europe/Zurich
BEGIN:STANDARD
DTSTART:20261025T020000
RRULE:FREQ=YEARLY;BYDAY=-1SU;BYMONTH=10
TZOFFSETFROM:+0200
TZOFFSETTO:+0100
TZNAME:CET
END:STANDARD
BEGIN:DAYLIGHT
DTSTART:20260329T030000
RRULE:FREQ=YEARLY;BYDAY=-1SU;BYMONTH=3
TZOFFSETFROM:+0100
TZOFFSETTO:+0200
TZNAME:CEST
END:DAYLIGHT
END:VTIMEZONE
BEGIN:VEVENT
DESCRIPTION:In einer Zeit\, in der digitale Transformation und IT-Sicherheit immer mehr an Bedeutung gewinnen\, stehen Unternehmen vor der Herausforderung\, ihre Fachapplikationen sicher und effizient in ihre bestehenden IT-Landschaften zu integrieren. Die nahtlose Anbindung dieser Systeme ist entscheidend für den reibungslosen Betrieb und den Schutz sensibler Daten. Doch welche Strategien und Best Practices führen zum Erfolg\, und welche Fallstricke gilt es zu vermeiden?\n\nDieses Event rückt die sicheren und effizienten Methoden zur Anbindung von Fachapplikationen ins Rampenlicht. Wir beleuchten die wichtigsten Erfolgsfaktoren\, teilen praxisnahe Erfahrungen und diskutieren die Herausforderungen\, die bei der Integration auftreten können. Erfahren Sie\, wie Sie Ihre IT-Infrastruktur stärken und gleichzeitig die Sicherheit und Effizienz Ihrer Anbindungen maximieren können.\n\n------\n\nPowered by addevent.com \nShare your next event with us!\n
X-ALT-DESC;FMTTYPE=text/html:In einer Zeit, in der digitale Transformation und IT-Sicherheit immer mehr an Bedeutung gewinnen, stehen Unternehmen vor der Herausforderung, ihre Fachapplikationen sicher und effizient in ihre bestehenden IT-Landschaften zu integrieren. Die nahtlose Anbindung dieser Systeme ist entscheidend für den reibungslosen Betrieb und den Schutz sensibler Daten. Doch welche Strategien und Best Practices führen zum Erfolg, und welche Fallstricke gilt es zu vermeiden?<br><br>Dieses Event rückt die sicheren und effizienten Methoden zur Anbindung von Fachapplikationen ins Rampenlicht. Wir beleuchten die wichtigsten Erfolgsfaktoren, teilen praxisnahe Erfahrungen und diskutieren die Herausforderungen, die bei der Integration auftreten können. Erfahren Sie, wie Sie Ihre IT-Infrastruktur stärken und gleichzeitig die Sicherheit und Effizienz Ihrer Anbindungen maximieren können.<br /><br />------<br /><br />Powered by addevent.com <br>Share your next event with us!<br>
UID:1776808347addeventcom
SUMMARY:Sichere Integration im Fokus: Erfolgsfaktoren für die sichere und effiziente Anbindung von Fachapplikationen
DTSTART;TZID=Europe/Zurich:20241128T143000
DTEND;TZID=Europe/Zurich:20241128T173000
DTSTAMP:20260421T215227Z
TRANSP:OPAQUE
STATUS:CONFIRMED
SEQUENCE:0
LOCATION:https://maps.app.goo.gl/tq5DLyWQzuP9keJV7
X-MICROSOFT-CDO-BUSYSTATUS:BUSY
BEGIN:VALARM
TRIGGER:-PT1440M
ACTION:DISPLAY
DESCRIPTION:Reminder
END:VALARM
END:VEVENT
END:VCALENDAR