BEGIN:VCALENDAR
PRODID:-//AddEvent Inc//AddEvent.com v1.7//EN
VERSION:2.0
BEGIN:VTIMEZONE
TZID:Europe/London
BEGIN:STANDARD
DTSTART:20261025T010000
RRULE:FREQ=YEARLY;BYDAY=-1SU;BYMONTH=10
TZOFFSETFROM:+0100
TZOFFSETTO:+0000
TZNAME:GMT
END:STANDARD
BEGIN:DAYLIGHT
DTSTART:20260329T020000
RRULE:FREQ=YEARLY;BYDAY=-1SU;BYMONTH=3
TZOFFSETFROM:+0000
TZOFFSETTO:+0100
TZNAME:BST
END:DAYLIGHT
END:VTIMEZONE
BEGIN:VEVENT
DESCRIPTION:The Big Give Christmas Challenge goes live from midday on 29th Nov-6th Dec! Donate to Carn to Cove during this time and your gift will be doubled by our charity champions\, meaning double the impact.\n\nIf you can\, please donate here: https://donate.thebiggive.org.uk/campaign/a056900002NC4dbAAD\n\nThank you! \n\n------\n\nPowered by addevent.com \nShare your next event with us!\n
X-ALT-DESC;FMTTYPE=text/html:The Big Give Christmas Challenge goes live from midday on 29th Nov-6th Dec! Donate to Carn to Cove during this time and your gift will be doubled by our charity champions, meaning double the impact.<br><br>If you can, please donate here: <a href="https://donate.thebiggive.org.uk/campaign/a056900002NC4dbAAD">https://donate.thebiggive.org.uk/campaign/a056900002NC4dbAAD</a><br><br>Thank you! <br /><br />------<br /><br />Powered by addevent.com <br>Share your next event with us!<br>
UID:1776960927addeventcom
SUMMARY:Carn to Cove: The Big Give Christmas Challenge
DTSTART;TZID=Europe/London:20221129T120000
DTEND;TZID=Europe/London:20221206T120000
DTSTAMP:20260423T161527Z
TRANSP:OPAQUE
STATUS:CONFIRMED
SEQUENCE:0
X-MICROSOFT-CDO-BUSYSTATUS:BUSY
BEGIN:VALARM
TRIGGER:-PT60M
ACTION:DISPLAY
DESCRIPTION:Reminder
END:VALARM
END:VEVENT
END:VCALENDAR