BEGIN:VCALENDAR
PRODID:-//AddEvent Inc//AddEvent.com v1.7//EN
VERSION:2.0
BEGIN:VTIMEZONE
TZID:America/Los_Angeles
BEGIN:STANDARD
DTSTART:20261101T010000
RRULE:FREQ=YEARLY;BYDAY=1SU;BYMONTH=11
TZOFFSETFROM:-0700
TZOFFSETTO:-0800
TZNAME:PST
END:STANDARD
BEGIN:DAYLIGHT
DTSTART:20260308T030000
RRULE:FREQ=YEARLY;BYDAY=2SU;BYMONTH=3
TZOFFSETFROM:-0800
TZOFFSETTO:-0700
TZNAME:PDT
END:DAYLIGHT
END:VTIMEZONE
BEGIN:VEVENT
DESCRIPTION:Description: Free Webinar with Christina Hills on "Easily Create a Beautiful Website In WordPress\, Even if You Hate Technology". Go here for the GoToWebinar event: https://attendee.gotowebinar.com/register/722179481518222166
X-ALT-DESC;FMTTYPE=text/html:Description: Free Webinar with Christina Hills on "Easily Create a Beautiful Website In WordPress, Even if You Hate Technology". Go here for the GoToWebinar event: https://attendee.gotowebinar.com/register/722179481518222166
UID:1776880975addeventcom
SUMMARY:Christina Hills Webinar: Easily Create a Beautiful Website In WordPress\, Even If You Hate Technology!
DTSTART;TZID=America/Los_Angeles:20260402T120000
DTEND;TZID=America/Los_Angeles:20260402T133000
DTSTAMP:20260422T180255Z
TRANSP:OPAQUE
STATUS:CONFIRMED
SEQUENCE:0
LOCATION:Online
X-MICROSOFT-CDO-BUSYSTATUS:BUSY
BEGIN:VALARM
TRIGGER:-PT30M
ACTION:DISPLAY
DESCRIPTION:Reminder
END:VALARM
END:VEVENT
END:VCALENDAR