BEGIN:VCALENDAR
PRODID:-//AddEvent Inc//AddEvent.com v1.7//EN
VERSION:2.0
BEGIN:VTIMEZONE
TZID:America/New_York
BEGIN:STANDARD
DTSTART:20261101T010000
RRULE:FREQ=YEARLY;BYDAY=1SU;BYMONTH=11
TZOFFSETFROM:-0400
TZOFFSETTO:-0500
TZNAME:EST
END:STANDARD
BEGIN:DAYLIGHT
DTSTART:20260308T030000
RRULE:FREQ=YEARLY;BYDAY=2SU;BYMONTH=3
TZOFFSETFROM:-0500
TZOFFSETTO:-0400
TZNAME:EDT
END:DAYLIGHT
END:VTIMEZONE
BEGIN:VEVENT
DESCRIPTION:Join us for an evening of violin by renowned brothers Ganesh and Kumaresh Rajagopalan on Saturday\, May 16 at 5 PM at the Schiff Center at Seven Hills School in Cincinnati\, Ohio.\n\nCelebrated for their extraordinary technique and creativity\, the brothers have enthralled audiences worldwide for over four decades. Trained by their father\, veteran violinist Shri T. S. Rajagopalan\, they began performing together when Kumaresh was just five years old.\n\nThey will be joined by Trichy Krishnaswamy on ghatam and Patri Satish Kumar on mridangam.\n\nPlease join us for this spectacular event.
X-ALT-DESC;FMTTYPE=text/html:Join us for an evening of violin by renowned brothers Ganesh and Kumaresh Rajagopalan on Saturday, May 16 at 5 PM at the Schiff Center at Seven Hills School in Cincinnati, Ohio.<br /><p data-start="0" data-end="177"><br /></p>Celebrated for their extraordinary technique and creativity, the brothers have enthralled audiences worldwide for over four decades. Trained by their father, veteran violinist Shri T. S. Rajagopalan, they began performing together when Kumaresh was just five years old.<br /><p data-start="179" data-end="448"><br /></p>They will be joined by Trichy Krishnaswamy on ghatam and Patri Satish Kumar on mridangam.<br><br>Please join us for this spectacular event.
UID:1776952868addeventcom
SUMMARY:Jhankar presents Ragapravaham ft. Kumaresh & Ganesh Rajagopalan
DTSTART;TZID=America/New_York:20260516T170000
DTEND;TZID=America/New_York:20260516T190000
DTSTAMP:20260423T140108Z
TRANSP:OPAQUE
STATUS:CONFIRMED
SEQUENCE:0
LOCATION:5400 Red Bank Rd\, Cincinnati\, 45227\, OH\, USA
X-MICROSOFT-CDO-BUSYSTATUS:BUSY
BEGIN:VALARM
TRIGGER:-PT120M
ACTION:DISPLAY
DESCRIPTION:Reminder
END:VALARM
END:VEVENT
END:VCALENDAR