BEGIN:VCALENDAR
PRODID:-//AddEvent Inc//AddEvent.com v1.7//EN
VERSION:2.0
BEGIN:VTIMEZONE
TZID:America/New_York
BEGIN:STANDARD
DTSTART:20261101T010000
RRULE:FREQ=YEARLY;BYDAY=1SU;BYMONTH=11
TZOFFSETFROM:-0400
TZOFFSETTO:-0500
TZNAME:EST
END:STANDARD
BEGIN:DAYLIGHT
DTSTART:20260308T030000
RRULE:FREQ=YEARLY;BYDAY=2SU;BYMONTH=3
TZOFFSETFROM:-0500
TZOFFSETTO:-0400
TZNAME:EDT
END:DAYLIGHT
END:VTIMEZONE
BEGIN:VEVENT
DESCRIPTION:FutureGood is inviting you to a scheduled Zoom meeting.\n\nTopic: Q&As with Trista Harris: Climate Migration\nTime: Sep 8\, 2026 02:00 PM Eastern Time (US and Canada)\nJoin Zoom Meeting\nhttps://us02web.zoom.us/j/81832406065?pwd=VE6GxhjbTFgbvvSOvSo19pzuSKPCG4.1\n\nView meeting insights with Zoom AI Companion\nhttps://us02web.zoom.us/launch/edl?muid=00b19a1f-7296-4ce5-a059-ff2ed9a89fa5\n\nMeeting ID: 818 3240 6065\nPasscode: @wf3$e\n\n---\n\nOne tap mobile\n+12532050468\,\,81832406065#\,\,\,\,*701734# US\n+12532158782\,\,81832406065#\,\,\,\,*701734# US (Tacoma)\n\nJoin instructions\nhttps://us02web.zoom.us/meetings/81832406065/invitations?signature=un4xmB3GtFQfi7P_79JBUu7t8B59LQt-YimvKx7ctwI\n\n\n\n------\n\nPowered by addevent.com \nShare your next event with us!\n
X-ALT-DESC;FMTTYPE=text/html:FutureGood is inviting you to a scheduled Zoom meeting.<br><br>Topic: Q&amp;As with Trista Harris: Climate Migration<br />Time: Sep 8, 2026 02:00 PM Eastern Time (US and Canada)<br />Join Zoom Meeting<br />https://us02web.zoom.us/j/81832406065?pwd=VE6GxhjbTFgbvvSOvSo19pzuSKPCG4.1<br><br>View meeting insights with Zoom AI Companion<br />https://us02web.zoom.us/launch/edl?muid=00b19a1f-7296-4ce5-a059-ff2ed9a89fa5<br><br>Meeting ID: 818 3240 6065<br />Passcode: @wf3$e<br><br>---<br><br>One tap mobile<br />+12532050468,,81832406065#,,,,*701734# US<br />+12532158782,,81832406065#,,,,*701734# US (Tacoma)<br><br>Join instructions<br />https://us02web.zoom.us/meetings/81832406065/invitations?signature=un4xmB3GtFQfi7P_79JBUu7t8B59LQt-YimvKx7ctwI<br><br><br /><br />------<br /><br />Powered by addevent.com <br>Share your next event with us!<br>
UID:1776797601addeventcom
SUMMARY:Q&As with Trista Harris: Climate Migration
DTSTART;TZID=America/New_York:20260908T140000
DTEND;TZID=America/New_York:20260908T150000
DTSTAMP:20260421T185321Z
TRANSP:OPAQUE
STATUS:CONFIRMED
SEQUENCE:0
LOCATION:https://us02web.zoom.us/j/81832406065?pwd=VE6GxhjbTFgbvvSOvSo19pzuSKPCG4.1
X-MICROSOFT-CDO-BUSYSTATUS:BUSY
BEGIN:VALARM
TRIGGER:-PT30M
ACTION:DISPLAY
DESCRIPTION:Reminder
END:VALARM
END:VEVENT
END:VCALENDAR