BEGIN:VCALENDAR
PRODID:-//AddEvent Inc//AddEvent.com v1.7//EN
VERSION:2.0
BEGIN:VTIMEZONE
TZID:America/New_York
BEGIN:STANDARD
DTSTART:20261101T010000
RRULE:FREQ=YEARLY;BYDAY=1SU;BYMONTH=11
TZOFFSETFROM:-0400
TZOFFSETTO:-0500
TZNAME:EST
END:STANDARD
BEGIN:DAYLIGHT
DTSTART:20260308T030000
RRULE:FREQ=YEARLY;BYDAY=2SU;BYMONTH=3
TZOFFSETFROM:-0500
TZOFFSETTO:-0400
TZNAME:EDT
END:DAYLIGHT
END:VTIMEZONE
BEGIN:VEVENT
DESCRIPTION:FutureGood is inviting you to a scheduled Zoom meeting.\n\nTopic: Q&As with Trista Harris: Lifelong Learning\nTime: Nov 10\, 2026 03:00 PM Eastern Time (US and Canada)\nJoin Zoom Meeting\nhttps://us02web.zoom.us/j/87127377922?pwd=CQdgLTvGii3J4qtORnSyjCs2qpMHEW.1\n\nView meeting insights with Zoom AI Companion\nhttps://us02web.zoom.us/launch/edl?muid=4113395c-a272-4e52-8717-6d66513eccc9\n\nMeeting ID: 871 2737 7922\nPasscode: =!wGh6\n\n---\n\nOne tap mobile\n+13092053325\,\,87127377922#\,\,\,\,*814290# US\n+13126266799\,\,87127377922#\,\,\,\,*814290# US (Chicago)\n\nJoin instructions\nhttps://us02web.zoom.us/meetings/87127377922/invitations?signature=OenG643g4Okl9oWxugrmfFJKkh6fYBhvWa-lDIh2rJg\n\n\n\n------\n\nPowered by addevent.com \nShare your next event with us!\n
X-ALT-DESC;FMTTYPE=text/html:FutureGood is inviting you to a scheduled Zoom meeting.<br><br>Topic: Q&amp;As with Trista Harris: Lifelong Learning<br />Time: Nov 10, 2026 03:00 PM Eastern Time (US and Canada)<br />Join Zoom Meeting<br />https://us02web.zoom.us/j/87127377922?pwd=CQdgLTvGii3J4qtORnSyjCs2qpMHEW.1<br><br>View meeting insights with Zoom AI Companion<br />https://us02web.zoom.us/launch/edl?muid=4113395c-a272-4e52-8717-6d66513eccc9<br><br>Meeting ID: 871 2737 7922<br />Passcode: =!wGh6<br><br>---<br><br>One tap mobile<br />+13092053325,,87127377922#,,,,*814290# US<br />+13126266799,,87127377922#,,,,*814290# US (Chicago)<br><br>Join instructions<br />https://us02web.zoom.us/meetings/87127377922/invitations?signature=OenG643g4Okl9oWxugrmfFJKkh6fYBhvWa-lDIh2rJg<br><br><br /><br />------<br /><br />Powered by addevent.com <br>Share your next event with us!<br>
UID:1776797502addeventcom
SUMMARY:Q&As with Trista Harris: Lifelong Learning
DTSTART;TZID=America/New_York:20261110T150000
DTEND;TZID=America/New_York:20261110T160000
DTSTAMP:20260421T185142Z
TRANSP:OPAQUE
STATUS:CONFIRMED
SEQUENCE:0
LOCATION:https://us02web.zoom.us/j/87127377922?pwd=CQdgLTvGii3J4qtORnSyjCs2qpMHEW.1
X-MICROSOFT-CDO-BUSYSTATUS:BUSY
BEGIN:VALARM
TRIGGER:-PT30M
ACTION:DISPLAY
DESCRIPTION:Reminder
END:VALARM
END:VEVENT
END:VCALENDAR