BEGIN:VCALENDAR
PRODID:-//AddEvent Inc//AddEvent.com v1.7//EN
VERSION:2.0
BEGIN:VTIMEZONE
TZID:Europe/Amsterdam
BEGIN:STANDARD
DTSTART:20261025T020000
RRULE:FREQ=YEARLY;BYDAY=-1SU;BYMONTH=10
TZOFFSETFROM:+0200
TZOFFSETTO:+0100
TZNAME:CET
END:STANDARD
BEGIN:DAYLIGHT
DTSTART:20260329T030000
RRULE:FREQ=YEARLY;BYDAY=-1SU;BYMONTH=3
TZOFFSETFROM:+0100
TZOFFSETTO:+0200
TZNAME:CEST
END:DAYLIGHT
END:VTIMEZONE
BEGIN:VEVENT
DESCRIPTION:Welcome to The Final Protocol and what could very much be your last chance to achieve financial freedom online. The world is changing rapidly\, and you really only have 2 options:\n\nChange with it\, or:\n\nGet left behind.\n\nWhich is why on December 28th at 6pm CET\, I'm going to teach you exactly how to take over with AI. Just like I did when I leveraged the AI Launch Protocol to scale my Fashion Brand Icon past $40M/year.\n\n------\n\nPowered by addevent.com \nShare your next event with us!\n
X-ALT-DESC;FMTTYPE=text/html:Welcome to The Final Protocol and what could very much be your last chance to achieve financial freedom online. The world is changing rapidly, and you really only have 2 options:<br><br>Change with it, or:<br><br>Get left behind.<br><br>Which is why on December 28th at 6pm CET, I'm going to teach you exactly how to take over with AI. Just like I did when I leveraged the AI Launch Protocol to scale my Fashion Brand Icon past $40M/year.<br /><br />------<br /><br />Powered by addevent.com <br>Share your next event with us!<br>
UID:1776768564addeventcom
SUMMARY:The Final Protocol
DTSTART;TZID=Europe/Amsterdam:20251228T180000
DTEND;TZID=Europe/Amsterdam:20251228T200000
DTSTAMP:20260421T104924Z
TRANSP:OPAQUE
STATUS:CONFIRMED
SEQUENCE:0
LOCATION:https://www.youtube.com/@SamuelOnuha
X-MICROSOFT-CDO-BUSYSTATUS:BUSY
BEGIN:VALARM
TRIGGER:-PT30M
ACTION:DISPLAY
DESCRIPTION:Reminder
END:VALARM
END:VEVENT
END:VCALENDAR