BEGIN:VCALENDAR
PRODID:-//AddEvent Inc//AddEvent.com v1.7//EN
VERSION:2.0
BEGIN:VTIMEZONE
TZID:America/Vancouver
BEGIN:STANDARD
DTSTART:20261101T010000
RRULE:FREQ=YEARLY;BYDAY=1SU;BYMONTH=11
TZOFFSETFROM:-0700
TZOFFSETTO:-0800
TZNAME:PST
END:STANDARD
BEGIN:DAYLIGHT
DTSTART:20260308T030000
RRULE:FREQ=YEARLY;BYDAY=2SU;BYMONTH=3
TZOFFSETFROM:-0800
TZOFFSETTO:-0700
TZNAME:PDT
END:DAYLIGHT
END:VTIMEZONE
BEGIN:VEVENT
DESCRIPTION:We look forward to hosting you for the Why Your Complaint Process Is Creating More Conflict online workshop\, where we’ll discuss practical strategies for handling complaints in sport organizations and reducing unnecessary escalation.\n\nZoom Meeting Information:\nhttps://us02web.zoom.us/j/83655727409?pwd=1pEco5nFGqhwY3aCtWySwQsgzIJExs.1\nMeeting ID: 836 5572 7409\nPasscode: 677954\n\n------\n\nPowered by addevent.com \nShare your next event with us!\n
X-ALT-DESC;FMTTYPE=text/html:We look forward to hosting you for the <strong>Why Your Complaint Process Is Creating More Conflict </strong>online workshop, where we’ll discuss practical strategies for handling complaints in sport organizations and reducing unnecessary escalation.<br><br>Zoom Meeting Information:<br />https://us02web.zoom.us/j/83655727409?pwd=1pEco5nFGqhwY3aCtWySwQsgzIJExs.1<br />Meeting ID: 836 5572 7409<br />Passcode: 677954<br /><br />------<br /><br />Powered by addevent.com <br>Share your next event with us!<br>
UID:1776849129addeventcom
SUMMARY:Online Workshop: Why Your Complaint Process Is Creating More Conflict
DTSTART;TZID=America/Vancouver:20260505T120000
DTEND;TZID=America/Vancouver:20260505T130000
DTSTAMP:20260422T091209Z
TRANSP:OPAQUE
STATUS:CONFIRMED
SEQUENCE:0
LOCATION:https://us02web.zoom.us/j/83655727409?pwd=1pEco5nFGqhwY3aCtWySwQsgzIJExs.1
X-MICROSOFT-CDO-BUSYSTATUS:BUSY
BEGIN:VALARM
TRIGGER:-PT30M
ACTION:DISPLAY
DESCRIPTION:Reminder
END:VALARM
END:VEVENT
END:VCALENDAR