BEGIN:VCALENDAR
PRODID:-//AddEvent Inc//AddEvent.com v1.7//EN
VERSION:2.0
BEGIN:VTIMEZONE
TZID:America/New_York
BEGIN:STANDARD
DTSTART:20261101T010000
RRULE:FREQ=YEARLY;BYDAY=1SU;BYMONTH=11
TZOFFSETFROM:-0400
TZOFFSETTO:-0500
TZNAME:EST
END:STANDARD
BEGIN:DAYLIGHT
DTSTART:20260308T030000
RRULE:FREQ=YEARLY;BYDAY=2SU;BYMONTH=3
TZOFFSETFROM:-0500
TZOFFSETTO:-0400
TZNAME:EDT
END:DAYLIGHT
END:VTIMEZONE
BEGIN:VEVENT
DESCRIPTION:The team at Fivetran is excited to invite you to a 45-minute virtual lunch and learn where we’ll walk through how Fivetran is partnering with other teams at Graham Holdings to simplify and accelerate data delivery for their business. Join us for:\n\n• A live case study showcasing how Kaplan automated their data movement to reclaim 100+ engineering hours per week and build a real-time decision engine for their marketing operations.\n• A brief product demo\n• And an open forum to discuss where data bottlenecks exist in your own organizations and how utilizing Fivetran across the business can unlock efficiencies at scale.\n\nReserve your seat (and your lunch!). Register via the form to secure your spot. An Uber Eats gift card will be sent to all registered attendees before the event.\n\n[This is an invite-only session for Graham Holdings business unit  IT leadership. An Uber Eats gift card will be sent to registered attendees before the event. Questions? Reach out to Corey Sturmer at corey.sturmer@fivetran.com.]
X-ALT-DESC;FMTTYPE=text/html:The team at Fivetran is excited to invite you to a 45-minute virtual lunch and learn where we’ll walk through how Fivetran is partnering with other teams at Graham Holdings to simplify and accelerate data delivery for their business. Join us for:<br /><ul data-w-id="d54b652f-42e5-a640-326b-038d017efd50" data-wf-id="[" data-automation-id="dyn-item-event-details-input"><li data-w-id="49cf214a-d9e3-089e-cbee-52877cdf5a02" data-wf-id="[" data-automation-id="dyn-item-event-details-input">A live case study showcasing how Kaplan automated their data movement to reclaim 100+ engineering hours per week and build a real-time decision engine for their marketing operations.</li><li data-w-id="37f02829-6ed3-b3bc-46f8-f0db555a4080" data-wf-id="[" data-automation-id="dyn-item-event-details-input">A brief product demo</li><li data-w-id="025f02b8-f303-d13a-b83f-438bf351534a" data-wf-id="[" data-automation-id="dyn-item-event-details-input">And an open forum to discuss where data bottlenecks exist in your own organizations and how utilizing Fivetran across the business can unlock efficiencies at scale.</li></ul>Reserve your seat (and your lunch!). Register via the form to secure your spot. An Uber Eats gift card will be sent to all registered attendees before the event.<br><br>[This is an invite-only session for Graham Holdings business unit  IT leadership. An Uber Eats gift card will be sent to registered attendees before the event. Questions? Reach out to Corey Sturmer at corey.sturmer@fivetran.com.]
UID:1777039017addeventcom
SUMMARY:Accelerate data delivery across Graham Holdings: A virtual lunch & learn
DTSTART;TZID=America/New_York:20260520T120000
DTEND;TZID=America/New_York:20260520T124500
DTSTAMP:20260424T135657Z
TRANSP:OPAQUE
STATUS:CONFIRMED
SEQUENCE:0
LOCATION:http://meet.google.com/smk-neee-rbm
X-MICROSOFT-CDO-BUSYSTATUS:BUSY
BEGIN:VALARM
TRIGGER:-PT30M
ACTION:DISPLAY
DESCRIPTION:Reminder
END:VALARM
END:VEVENT
END:VCALENDAR