BEGIN:VCALENDAR
PRODID:-//AddEvent Inc//AddEvent.com v1.7//EN
VERSION:2.0
BEGIN:VTIMEZONE
TZID:America/Denver
BEGIN:STANDARD
DTSTART:20261101T010000
RRULE:FREQ=YEARLY;BYDAY=1SU;BYMONTH=11
TZOFFSETFROM:-0600
TZOFFSETTO:-0700
TZNAME:MST
END:STANDARD
BEGIN:DAYLIGHT
DTSTART:20260308T030000
RRULE:FREQ=YEARLY;BYDAY=2SU;BYMONTH=3
TZOFFSETFROM:-0700
TZOFFSETTO:-0600
TZNAME:MDT
END:DAYLIGHT
END:VTIMEZONE
BEGIN:VEVENT
DESCRIPTION:Register and more information: NJHealth.org/NTMBronch2026 http://NJHealth.org/NTMBronch2026\n\nNontuberculous mycobacteria (NTM) and bronchiectasis are complex\, chronic respiratory conditions that pose significant diagnostic and therapeutic challenges for healthcare providers. NTM infections\, caused by environmental mycobacteria\, can lead to progressive lung damage\, particularly in individuals with underlying lung diseases such as bronchiectasis. The interplay between these conditions contributes to worsening respiratory symptoms\, frequent exacerbations\, and reduced quality of life for affected patients. As the clinical burden of NTM and bronchiectasis becomes increasingly recognized\, there is an urgent need to better understand the underlying mechanisms of inflammation\, alongside efforts to improve early diagnosis and explore both current and emerging treatment options. We will have experts from across the country here to discuss this growing medical challenge. Come join us for an invaluable educational experience. The 2026 meeting will be offered as a hybrid\, with the option to attend in-person or online. All attendees will receive access to the online video content and slides after the conference.\n\nWho Should Attend:\nPulmonologists\, infectious disease physicians\, family and internal medicine physicians\, physician assistants\, advanced practice nurses\, registered nurses\, and other healthcare professionals such as radiologists who diagnose and treat patients with NTM and bronchiectasis.
X-ALT-DESC;FMTTYPE=text/html:<strong>Register and more information: </strong><a href="http://NJHealth.org/NTMBronch2026" target="_blank" rel="noopener noreferrer"><strong>NJHealth.org/NTMBronch2026</strong></a><br><br>Nontuberculous mycobacteria (NTM) and bronchiectasis are complex, chronic respiratory conditions that pose significant diagnostic and therapeutic challenges for healthcare providers. NTM infections, caused by environmental mycobacteria, can lead to progressive lung damage, particularly in individuals with underlying lung diseases such as bronchiectasis. The interplay between these conditions contributes to worsening respiratory symptoms, frequent exacerbations, and reduced quality of life for affected patients. As the clinical burden of NTM and bronchiectasis becomes increasingly recognized, there is an urgent need to better understand the underlying mechanisms of inflammation, alongside efforts to improve early diagnosis and explore both current and emerging treatment options. We will have experts from across the country here to discuss this growing medical challenge. Come join us for an invaluable educational experience. The 2026 meeting will be offered as a hybrid, with the option to attend in-person or online. All attendees will receive access to the online video content and slides after the conference.<br><br>Who Should Attend:<br />Pulmonologists, infectious disease physicians, family and internal medicine physicians, physician assistants, advanced practice nurses, registered nurses, and other healthcare professionals such as radiologists who diagnose and treat patients with NTM and bronchiectasis.
UID:1777017295addeventcom
SUMMARY:NTM & Bronchiectasis Conference for Healthcare Providers (Hybrid Event)
DTSTART;TZID=America/Denver:20260916T121500
DTEND;TZID=America/Denver:20260918T160000
DTSTAMP:20260424T075455Z
TRANSP:OPAQUE
STATUS:CONFIRMED
SEQUENCE:0
LOCATION:In person or online
X-MICROSOFT-CDO-BUSYSTATUS:BUSY
BEGIN:VALARM
TRIGGER:-PT1440M
ACTION:DISPLAY
DESCRIPTION:Reminder
END:VALARM
END:VEVENT
END:VCALENDAR