BEGIN:VCALENDAR
PRODID:-//AddEvent Inc//AddEvent.com v1.7//EN
VERSION:2.0
BEGIN:VTIMEZONE
TZID:America/Denver
BEGIN:STANDARD
DTSTART:20261101T010000
RRULE:FREQ=YEARLY;BYDAY=1SU;BYMONTH=11
TZOFFSETFROM:-0600
TZOFFSETTO:-0700
TZNAME:MST
END:STANDARD
BEGIN:DAYLIGHT
DTSTART:20260308T030000
RRULE:FREQ=YEARLY;BYDAY=2SU;BYMONTH=3
TZOFFSETFROM:-0700
TZOFFSETTO:-0600
TZNAME:MDT
END:DAYLIGHT
END:VTIMEZONE
BEGIN:VEVENT
DESCRIPTION:3 Fund Managers Share 2026 "AI-Infrastructure" Playbook For Acquisition Led Growth...\n\nAnd 3 Fund Managers (Managing Hundreds Of Millions) Think Most Investors Are Completely Unprepared...\n\nPLUS\, we're giving away a fund legal set up live as 3 Fund Managers share what they're actually seeing in the markets—and what they think you should be worried about instead...\n\n- Giving away 1 fund legal entity set up (set ups can be between 30k-50k)\n- Giving away over 1\,000 USD in prizes\n- Plus\, 3 fund managers discuss the 2026 AI Infrastructure Shift\n- All attendees will receive a free gift (better than a paperclip\, less than a Tesla)\n\nNo replays (must be live).\n\nTap to join the waiting room:\n\nhttps://fundlaunch.click/2026-ai-infrastructure-shift-waiting-room
X-ALT-DESC;FMTTYPE=text/html:<strong>3 Fund Managers Share 2026 "AI-Infrastructure" Playbook For Acquisition Led Growth...<br /></strong><br><br>And 3 Fund Managers (Managing Hundreds Of Millions) Think Most Investors Are Completely Unprepared...<br><br>PLUS, we're giving away a fund legal set up live as 3 Fund Managers share what they're actually seeing in the markets—and what they think you should be worried about instead...<br><br>- Giving away 1 fund legal entity set up (set ups can be between 30k-50k)<br />- Giving away over 1,000 USD in prizes<br />- Plus, 3 fund managers discuss the 2026 AI Infrastructure Shift<br />- All attendees will receive a free gift (better than a paperclip, less than a Tesla)<br><br>No replays (must be live).<br><br>Tap to join the waiting room:<br><br>https://fundlaunch.click/2026-ai-infrastructure-shift-waiting-room
UID:1776637453addeventcom
SUMMARY:2026 AI Infrastructure Shift Virtual Event w/ 3 Fund Managers
DTSTART;TZID=America/Denver:20260319T110000
DTEND;TZID=America/Denver:20260319T140000
DTSTAMP:20260419T222413Z
TRANSP:OPAQUE
STATUS:CONFIRMED
SEQUENCE:0
LOCATION:https://fundlaunch.click/2026-ai-infrastructure-shift-waiting-room
X-MICROSOFT-CDO-BUSYSTATUS:BUSY
BEGIN:VALARM
TRIGGER:-PT15M
ACTION:DISPLAY
DESCRIPTION:Reminder
END:VALARM
END:VEVENT
END:VCALENDAR