BEGIN:VCALENDAR
PRODID:-//AddEvent Inc//AddEvent.com v1.7//EN
VERSION:2.0
BEGIN:VEVENT
DESCRIPTION:CSO 360 Asia & Oceania | Inaugural Edition\n11-12 May 2026\, Singapore\n\nThe 1st CSO 360 Asia & Oceania is a closed-door forum designed exclusively for Chief Security Officers and senior corporate security leaders from across the region and beyond.\n\nFocused on real-world business resilience\, this practitioner-led event creates a trusted space for CSOs to share insights\, benchmark strategies\, and explore the evolving convergence of physical security\, intelligence\, investigations\, crisis management\, and enterprise resilience. Running alongside CISO 360 Asia & Oceania\, CSO 360 maintains its own dedicated agenda and peer community - ensuring depth\, relevance\, and meaningful exchange for those leading security at the enterprise level.\nwww.cso360asia.com //www.cso360asia.com 
X-ALT-DESC;FMTTYPE=text/html:CSO 360 Asia &amp; Oceania | Inaugural Edition<br />11-12 May 2026, Singapore<br><br>The 1st CSO 360 Asia &amp; Oceania is a closed-door forum designed exclusively for Chief Security Officers and senior corporate security leaders from across the region and beyond.<br><br>Focused on real-world business resilience, this practitioner-led event creates a trusted space for CSOs to share insights, benchmark strategies, and explore the evolving convergence of physical security, intelligence, investigations, crisis management, and enterprise resilience. Running alongside CISO 360 Asia &amp; Oceania, CSO 360 maintains its own dedicated agenda and peer community - ensuring depth, relevance, and meaningful exchange for those leading security at the enterprise level.<br /><a href="//www.cso360asia.com">www.cso360asia.com</a> 
UID:1776661263addeventcom
SUMMARY:1st CSO 360 Asia & Oceania
DTSTART;VALUE=DATE:20260511
DTEND;VALUE=DATE:20260513
DTSTAMP:20260420T050103Z
TRANSP:OPAQUE
STATUS:CONFIRMED
SEQUENCE:0
LOCATION:Singapore
X-MICROSOFT-CDO-BUSYSTATUS:BUSY
BEGIN:VALARM
TRIGGER:-PT2880M
ACTION:DISPLAY
DESCRIPTION:Reminder
END:VALARM
END:VEVENT
END:VCALENDAR