BEGIN:VCALENDAR
PRODID:-//AddEvent Inc//AddEvent.com v1.7//EN
VERSION:2.0
BEGIN:VTIMEZONE
TZID:America/New_York
BEGIN:STANDARD
DTSTART:20261101T010000
RRULE:FREQ=YEARLY;BYDAY=1SU;BYMONTH=11
TZOFFSETFROM:-0400
TZOFFSETTO:-0500
TZNAME:EST
END:STANDARD
BEGIN:DAYLIGHT
DTSTART:20260308T030000
RRULE:FREQ=YEARLY;BYDAY=2SU;BYMONTH=3
TZOFFSETFROM:-0500
TZOFFSETTO:-0400
TZNAME:EDT
END:DAYLIGHT
END:VTIMEZONE
BEGIN:VEVENT
DESCRIPTION:Events WeAreFutureGood is inviting you to a scheduled Zoom meeting.\n\nTopic: Q&As with Trista Harris: Future of Work\nTime: Jun 18\, 2026 03:00 PM Eastern Time (US and Canada)\nJoin Zoom Meeting\nhttps://us02web.zoom.us/j/81231379205?pwd=X2xSOHxnAoOBZcmCZc5vVraC0tUW34.1\n\nView meeting insights with Zoom AI Companion\nhttps://us02web.zoom.us/launch/edl?muid=30c0b9ba-6427-4cbb-a2b0-b8415e9d296d\n\nMeeting ID: 812 3137 9205\nPasscode: b*p=72\n\n---\n\nOne tap mobile\n+13052241968\,\,81231379205#\,\,\,\,*630548# US\n+13092053325\,\,81231379205#\,\,\,\,*630548# US\n\nJoin instructions\nhttps://us02web.zoom.us/meetings/81231379205/invitations?signature=Ov9r37mIOcFhlbdNUo7q1XutJKWvAvN3gexIErYsQs4\n\n\n\n------\n\nPowered by addevent.com \nShare your next event with us!\n
X-ALT-DESC;FMTTYPE=text/html:Events WeAreFutureGood is inviting you to a scheduled Zoom meeting.<br><br>Topic: Q&amp;As with Trista Harris: Future of Work<br />Time: Jun 18, 2026 03:00 PM Eastern Time (US and Canada)<br />Join Zoom Meeting<br />https://us02web.zoom.us/j/81231379205?pwd=X2xSOHxnAoOBZcmCZc5vVraC0tUW34.1<br><br>View meeting insights with Zoom AI Companion<br />https://us02web.zoom.us/launch/edl?muid=30c0b9ba-6427-4cbb-a2b0-b8415e9d296d<br><br>Meeting ID: 812 3137 9205<br />Passcode: b*p=72<br><br>---<br><br>One tap mobile<br />+13052241968,,81231379205#,,,,*630548# US<br />+13092053325,,81231379205#,,,,*630548# US<br><br>Join instructions<br />https://us02web.zoom.us/meetings/81231379205/invitations?signature=Ov9r37mIOcFhlbdNUo7q1XutJKWvAvN3gexIErYsQs4<br><br><br /><br />------<br /><br />Powered by addevent.com <br>Share your next event with us!<br>
UID:1776797776addeventcom
SUMMARY:Q&As with Trista Harris: Future of Work
DTSTART;TZID=America/New_York:20260618T150000
DTEND;TZID=America/New_York:20260618T160000
DTSTAMP:20260421T185616Z
TRANSP:OPAQUE
STATUS:CONFIRMED
SEQUENCE:0
LOCATION:https://us02web.zoom.us/j/81231379205?pwd=X2xSOHxnAoOBZcmCZc5vVraC0tUW34.1
X-MICROSOFT-CDO-BUSYSTATUS:BUSY
BEGIN:VALARM
TRIGGER:-PT30M
ACTION:DISPLAY
DESCRIPTION:Reminder
END:VALARM
END:VEVENT
END:VCALENDAR