BEGIN:VCALENDAR
PRODID:-//AddEvent Inc//AddEvent.com v1.7//EN
VERSION:2.0
BEGIN:VTIMEZONE
TZID:Europe/London
BEGIN:STANDARD
DTSTART:20261025T010000
RRULE:FREQ=YEARLY;BYDAY=-1SU;BYMONTH=10
TZOFFSETFROM:+0100
TZOFFSETTO:+0000
TZNAME:GMT
END:STANDARD
BEGIN:DAYLIGHT
DTSTART:20260329T020000
RRULE:FREQ=YEARLY;BYDAY=-1SU;BYMONTH=3
TZOFFSETFROM:+0000
TZOFFSETTO:+0100
TZNAME:BST
END:DAYLIGHT
END:VTIMEZONE
BEGIN:VEVENT
DESCRIPTION:Join Fivetran for an invitation-only executive experience at the Wimbledon Championships.\n\nSet against the backdrop of Centre Court\, the day is designed for thoughtful discussion around:\n\nWhat happens when data is consumed by systems\, not just people\nPreparing platforms for 10–100x increases in query volume\nBalancing flexibility\, performance and cost at scale\nHow leading teams are evolving beyond traditional data models\n\nWith limited seating and a carefully curated guest list\, this experience offers a discreet setting for meaningful conversation among senior data leaders.
X-ALT-DESC;FMTTYPE=text/html:Join Fivetran for an invitation-only executive experience at the Wimbledon Championships.<br><br>Set against the backdrop of Centre Court, the day is designed for thoughtful discussion around:<br><br>What happens when data is consumed by systems, not just people<br />Preparing platforms for 10–100x increases in query volume<br />Balancing flexibility, performance and cost at scale<br />How leading teams are evolving beyond traditional data models<br><br>With limited seating and a carefully curated guest list, this experience offers a discreet setting for meaningful conversation among senior data leaders.
UID:1777039063addeventcom
SUMMARY:Game\, Set\, Scale
DTSTART;TZID=Europe/London:20260703T120000
DTEND;TZID=Europe/London:20260703T170000
DTSTAMP:20260424T135743Z
TRANSP:OPAQUE
STATUS:CONFIRMED
SEQUENCE:0
LOCATION:No.1 Court | Wimbledon\, Church Rd\, London SW19 5AF\, United Kingdom
X-MICROSOFT-CDO-BUSYSTATUS:BUSY
BEGIN:VALARM
TRIGGER:-PT30M
ACTION:DISPLAY
DESCRIPTION:Reminder
END:VALARM
END:VEVENT
END:VCALENDAR