BEGIN:VCALENDAR
PRODID:-//AddEvent Inc//AddEvent.com v1.7//EN
VERSION:2.0
BEGIN:VTIMEZONE
TZID:America/New_York
BEGIN:STANDARD
DTSTART:20261101T010000
RRULE:FREQ=YEARLY;BYDAY=1SU;BYMONTH=11
TZOFFSETFROM:-0400
TZOFFSETTO:-0500
TZNAME:EST
END:STANDARD
BEGIN:DAYLIGHT
DTSTART:20260308T030000
RRULE:FREQ=YEARLY;BYDAY=2SU;BYMONTH=3
TZOFFSETFROM:-0500
TZOFFSETTO:-0400
TZNAME:EDT
END:DAYLIGHT
END:VTIMEZONE
BEGIN:VEVENT
DESCRIPTION:FutureGood is inviting you to a scheduled Zoom meeting.\n\nTopic: Q&As with Trista Harris: Trends in AI\nTime: Jul 13\, 2026 01:00 PM Eastern Time (US and Canada)\nJoin Zoom Meeting\nhttps://us02web.zoom.us/j/89565901748?pwd=oUUzrJ0CLGiHQo1ebsoFbS3Lj5ITn1.1\n\nView meeting insights with Zoom AI Companion\nhttps://us02web.zoom.us/launch/edl?muid=6d356514-e1fc-478e-9a38-f5f652a93b67\n\nMeeting ID: 895 6590 1748\nPasscode: G$G3G4\n\n---\n\nOne tap mobile\n+13092053325\,\,89565901748#\,\,\,\,*844066# US\n+13126266799\,\,89565901748#\,\,\,\,*844066# US (Chicago)\n\nJoin instructions\nhttps://us02web.zoom.us/meetings/89565901748/invitations?signature=Phwb3DCqeyHM9Y_M0vvAKbUGbuw-pJ5Y65s_2q7xZNY\n\n\n\n------\n\nPowered by addevent.com \nShare your next event with us!\n
X-ALT-DESC;FMTTYPE=text/html:FutureGood is inviting you to a scheduled Zoom meeting.<br><br>Topic: Q&amp;As with Trista Harris: Trends in AI<br />Time: Jul 13, 2026 01:00 PM Eastern Time (US and Canada)<br />Join Zoom Meeting<br />https://us02web.zoom.us/j/89565901748?pwd=oUUzrJ0CLGiHQo1ebsoFbS3Lj5ITn1.1<br><br>View meeting insights with Zoom AI Companion<br />https://us02web.zoom.us/launch/edl?muid=6d356514-e1fc-478e-9a38-f5f652a93b67<br><br>Meeting ID: 895 6590 1748<br />Passcode: G$G3G4<br><br>---<br><br>One tap mobile<br />+13092053325,,89565901748#,,,,*844066# US<br />+13126266799,,89565901748#,,,,*844066# US (Chicago)<br><br>Join instructions<br />https://us02web.zoom.us/meetings/89565901748/invitations?signature=Phwb3DCqeyHM9Y_M0vvAKbUGbuw-pJ5Y65s_2q7xZNY<br><br><br /><br />------<br /><br />Powered by addevent.com <br>Share your next event with us!<br>
UID:1776797973addeventcom
SUMMARY:Q&As with Trista Harris: Trends in AI
DTSTART;TZID=America/New_York:20260713T130000
DTEND;TZID=America/New_York:20260713T140000
DTSTAMP:20260421T185933Z
TRANSP:OPAQUE
STATUS:CONFIRMED
SEQUENCE:0
LOCATION:https://us02web.zoom.us/j/89565901748?pwd=oUUzrJ0CLGiHQo1ebsoFbS3Lj5ITn1.1
X-MICROSOFT-CDO-BUSYSTATUS:BUSY
BEGIN:VALARM
TRIGGER:-PT30M
ACTION:DISPLAY
DESCRIPTION:Reminder
END:VALARM
END:VEVENT
END:VCALENDAR